Workbook

Sheet BI
C1: TRIBUNAL DE CLASIFICACION Nº 2- LANÚS
A2: REGION: 2 | E2: PROPUESTA 2020/2021 | I2: Referencias: Distinguir con color MAD azul Acrecentamiento: verde Reincorporaciones: violeta Titulares interinos | K2: Otros Reubicaciones: naranja Renuncias: rojo Consecuencias: làpiz
A3: SECUNDARIA TECNICA | D3: BI
A4: DISTRITO: Avellaneda (005)
A5: A cubrir | B5: Mot | C5: DOCENTE INGRESADO: Apellido y Nombre | D5: DNI | E5: Puntaje | F5: Antig. | G5: Proviene de | L5: O/P | M5: Razon | N5: DOCENTE SALIDO
G6: Cargo | H6: Nº Mod/Hs. | I6: Asignatura | J6: Distrito | K6: Esc. Nº
A7: EEST 1 | B7: 1
A10: EEST 2 | B10: 1 | C10: ALMIRON, Analia Cristina | D10: 23025740 | E10: 562.7 | F10: 23 | G10: MB | J10: 5 | K10: EP 36 | L10: 1° | M10: S/R
A27: SUMA | B27: =SUM($B$7:B22) -> 2
A28: BASE VACANTES | B28: =SUM('[1]005'!$U$12:$V$12) -> #REF!

Sheet PR
C1: TRIBUNAL DE CLASIFICACION Nº 2- LANÚS
A2: REGION: 2 | E2: =BI!E2 -> PROPUESTA 2020/2021 | I2: Referencias: Distinguir con color MAD azul Acrecentamiento: verde Reincorporaciones: violeta Titulares interinos | K2: Otros Reubicaciones: naranja Renuncias: rojo Consecuencias: làpiz
A3: SECUNDARIA TECNICA | D3: PR
A4: DISTRITO: Avellaneda (005)
A5: A cubrir | B5: Mot | C5: DOCENTE ENTRADO: Apellido y Nombre | D5: DNI | E5: Puntaje | F5: Antig. | G5: Proviene de | L5: O/P | M5: Razon | N5: DOCENTE SALIDO
G6: Cargo | H6: Nº Mod/Hs. | I6: Asignatura | J6: Distrito | K6: Esc. Nº
A7: EEST 1 | B7: 1
B8: 1
B9: 1
B10: 1V/C | N10: ZACHOWY NOWAK A PR - EST 7
A13: EEST 2 | B13: 1E | C13: EXCEDENTE | N13: BAROLO P. A EMATP PAÑOL - EST 2
A16: EEST 3 | B16: 1 | C16: GUZMAN, Andrea Fabiana | D16: 22339372 | E16: 410 | F16: 8 | G16: MG | J16: 5 | K16: EP 61 | L16: 1° | M16: S/R
B17: 1
B18: 1
B19: 1
B20: 1
A23: EEST 4 | B23: 1
B24: 1
B25: 1
B26: 1
B27: 1
B28: 1E | C28: EXCEDENTE | D28: JUB VALLARDO SILVIA 31/7/19
A32: EEST 5 | B32: 1
A35: EEST 6 | B35: 1
B36: 1
A39: EEST 7 | B39: 1 | C39: ZACHOWY NOWAK, Natalia Veronica | D39: 29699340 | E39: 420 | F39: 8 | G39: PR | J39: 5 | K39: EST 1 | L39: UP | M39: S/R
B40: 1 | N40: RENUNCIA MIRRA JULIETA
B41: 1
B42: 1
B43: 1
B44: 1
B45: 1
B46: 1
A49: EEST 8 | B49: 1
B50: 1
A55: EEST 9 | B55: 1 | C55: BARBEITO, Carla Veronica T1 | D55: 24425318 | E55: 466.7 | F55: 19 | G55: PR | J55: 5 | K55: ES 5 | L55: UP | M55: S/R
B56: 1 | C56: PAZ, Laura Fabiana | D56: 18368106 | E56: 430 | F56: 8 | G56: MI | J56: 5 | K56: JI 905 | L56: 6° | M56: S/R
B57: 1 | C57: BARBEITO, Carla Veronica T2 | D57: 24425318 | E57: S/P | F57: 3 | G57: PR | J57: 5 | K57: ES 5 | L57: UP | M57: S/R
B58: 1
B59: 1
A66: SUMA | B66: =SUM($B$7:B61) -> 31
A67: BASE VACANTES | B67: =SUM('[1]005'!$U$13:$V$13) -> #REF!

Sheet EMATP Bio
C1: TRIBUNAL DE CLASIFICACION Nº 2- LANÚS
A2: REGION: 2 | E2: =BI!E2 -> PROPUESTA 2020/2021 | I2: Referencias: Distinguir con color MAD azul Acrecentamiento: verde Reincorporaciones: violeta Titulares interinos | K2: Otros Reubicaciones: naranja Renuncias: rojo Consecuencias: làpiz
A3: SECUNDARIA TECNICA | D3: EMATP BIOLOGIA
A4: DISTRITO: Avellaneda (005)
A5: A cubrir | B5: Mot | C5: DOCENTE ENTRADO: Apellido y Nombre | D5: DNI | E5: Puntaje | F5: Antig. | G5: Proviene de | L5: O/P | M5: Razon | N5: DOCENTE SALIDO
G6: Cargo | H6: Nº Mod/Hs. | I6: Asignatura | J6: Distrito | K6: Esc. Nº
A7: EEST 1 | B7: 1
A10: EEST 2 | B10: 1
A12: EEST 3 | B12: 1 V/C | N12: JUNYK, C a 8 Mód. CNT de EEST 6 y 2 Mód. BLG de EEST 6
A32: SUMA | B32: =SUM($B$7:B27) -> 2
A33: BASE VACANTES | B33: =SUM('[1]005'!$U$14:$V$14) -> #REF!

Sheet EMATP CAD
C1: TRIBUNAL DE CLASIFICACION Nº 2- LANÚS
A2: REGION: 2 | E2: =BI!E2 -> PROPUESTA 2020/2021 | I2: Referencias: Distinguir con color MAD azul Acrecentamiento: verde Reincorporaciones: violeta Titulares interinos | K2: Otros Reubicaciones: naranja Renuncias: rojo Consecuencias: làpiz
A3: SECUNDARIA TECNICA | D3: EMATP CAD
A4: DISTRITO: Avellaneda (005)
A5: A cubrir | B5: Mot | C5: DOCENTE ENTRADO: Apellido y Nombre | D5: DNI | E5: Puntaje | F5: Antig. | G5: Proviene de | L5: O/P | M5: Razon | N5: DOCENTE SALIDO
G6: Cargo | H6: Nº Mod/Hs. | I6: Asignatura | J6: Distrito | K6: Esc. Nº
A31: SUMA | B31: =SUM($B$7:B26) -> 0
A32: BASE VACANTES | B32: =SUM('[1]005'!$U$15:$V$15) -> #REF!

Sheet EMATP Construc. C
C1: TRIBUNAL DE CLASIFICACION Nº 2- LANÚS
A2: REGION: 2 | E2: =BI!E2 -> PROPUESTA 2020/2021 | I2: Referencias: Distinguir con color MAD azul Acrecentamiento: verde Reincorporaciones: violeta Titulares interinos | K2: Otros Reubicaciones: naranja Renuncias: rojo Consecuencias: làpiz
A3: SECUNDARIA TECNICA | D3: EMATP CONSTRUCCIONES CIV.
A4: DISTRITO: Avellaneda (005)
A5: A cubrir | B5: Mot | C5: DOCENTE ENTRADO: Apellido y Nombre | D5: DNI | E5: Puntaje | F5: Antig. | G5: Proviene de | L5: O/P | M5: Razon | N5: DOCENTE SALIDO
G6: Cargo | H6: Nº Mod/Hs. | I6: Asignatura | J6: Distrito | K6: Esc. Nº
A7: EEST 2 | B7: 1
A33: SUMA | B33: =SUM($B$7:B28) -> 1
A34: BASE VACANTES | B34: =SUM('[1]005'!$U$16:$V$16) -> #REF!

Sheet EMATP Cont
C1: TRIBUNAL DE CLASIFICACION Nº 2- LANÚS
A2: REGION: 2 | E2: =BI!E2 -> PROPUESTA 2020/2021 | I2: Referencias: Distinguir con color MAD azul Acrecentamiento: verde Reincorporaciones: violeta Titulares interinos | K2: Otros Reubicaciones: naranja Renuncias: rojo Consecuencias: làpiz
A3: SECUNDARIA TECNICA | D3: EMATP CONTABLE
A4: DISTRITO: Avellaneda (005)
A5: A cubrir | B5: Mot | C5: DOCENTE ENTRADO: Apellido y Nombre | D5: DNI | E5: Puntaje | F5: Antig. | G5: Proviene de | L5: O/P | M5: Razon | N5: DOCENTE SALIDO
G6: Cargo | H6: Nº Mod/Hs. | I6: Asignatura | J6: Distrito | K6: Esc. Nº
A7: EEST 6 | B7: 1
A34: SUMA | B34: =SUM($B$7:B29) -> 1
A35: BASE VACANTES | B35: =SUM('[1]005'!$U$17:$V$17) -> #REF!

Sheet EMATP Electro
C1: TRIBUNAL DE CLASIFICACION Nº 2- LANÚS
A2: REGION: 2 | E2: =BI!E2 -> PROPUESTA 2020/2021 | I2: Referencias: Distinguir con color MAD azul Acrecentamiento: verde Reincorporaciones: violeta Titulares interinos | K2: Otros Reubicaciones: naranja Renuncias: rojo Consecuencias: làpiz
A3: SECUNDARIA TECNICA | D3: EMATP ELECTRÓNICA
A4: DISTRITO: Avellaneda (005)
A5: A cubrir | B5: Mot | C5: DOCENTE ENTRADO: Apellido y Nombre | D5: DNI | E5: Puntaje | F5: Antig. | G5: Proviene de | L5: O/P | M5: Razon | N5: DOCENTE SALIDO
G6: Cargo | H6: Nº Mod/Hs. | I6: Asignatura | J6: Distrito | K6: Esc. Nº
A7: EEST 5 | B7: 1
A31: SUMA | B31: =SUM($B$7:B26) -> 1
A32: BASE VACANTES | B32: =SUM('[1]005'!$U$18:$V$18) -> #REF!

Sheet EMATP Fis
C1: TRIBUNAL DE CLASIFICACION Nº 2- LANÚS
A2: REGION: 2 | E2: =BI!E2 -> PROPUESTA 2020/2021 | I2: Referencias: Distinguir con color MAD azul Acrecentamiento: verde Reincorporaciones: violeta Titulares interinos | K2: Otros Reubicaciones: naranja Renuncias: rojo Consecuencias: làpiz
A3: SECUNDARIA TECNICA | D3: EMATP FÍSICA
A4: DISTRITO: Avellaneda (005)
A5: A cubrir | B5: Mot | C5: DOCENTE ENTRADO: Apellido y Nombre | D5: DNI | E5: Puntaje | F5: Antig. | G5: Proviene de | L5: O/P | M5: Razon | N5: DOCENTE SALIDO
G6: Cargo | H6: Nº Mod/Hs. | I6: Asignatura | J6: Distrito | K6: Esc. Nº
A7: EEST 2 | B7: 1
A10: EEST 3 | B10: 1
A32: SUMA | B32: =SUM($B$7:B27) -> 2
A33: BASE VACANTES | B33: =SUM('[1]005'!$U$19:$V$19) -> #REF!

Sheet EMATP Inf
C1: TRIBUNAL DE CLASIFICACION Nº 2- LANÚS
A2: REGION: 2 | E2: =BI!E2 -> PROPUESTA 2020/2021 | I2: Referencias: Distinguir con color MAD azul Acrecentamiento: verde Reincorporaciones: violeta Titulares interinos | K2: Otros Reubicaciones: naranja Renuncias: rojo Consecuencias: làpiz
A3: SECUNDARIA TECNICA | D3: EMATP INFORMATICA
A4: DISTRITO: Avellaneda (005)
A5: A cubrir | B5: Mot | C5: DOCENTE ENTRADO: Apellido y Nombre | D5: DNI | E5: Puntaje | F5: Antig. | G5: Proviene de | L5: O/P | M5: Razon | N5: DOCENTE SALIDO
G6: Cargo | H6: Nº Mod/Hs. | I6: Asignatura | J6: Distrito | K6: Esc. Nº
A7: EEST 2 | B7: 1
A31: SUMA | B31: =SUM($B$7:B26) -> 1
A32: BASE VACANTES | B32: =SUM('[1]005'!$U$20:$V$20) -> #REF!

Sheet EMATP Med e Inst Elec.
C1: TRIBUNAL DE CLASIFICACION Nº 2- LANÚS
A2: REGION: 2 | E2: =BI!E2 -> PROPUESTA 2020/2021 | I2: Referencias: Distinguir con color MAD azul Acrecentamiento: verde Reincorporaciones: violeta Titulares interinos | K2: Otros Reubicaciones: naranja Renuncias: rojo Consecuencias: làpiz
A3: SECUNDARIA TECNICA | D3: EMATP MED. E INST. CIV.
A4: DISTRITO: Avellaneda (005)
A5: A cubrir | B5: Mot | C5: DOCENTE ENTRADO: Apellido y Nombre | D5: DNI | E5: Puntaje | F5: Antig. | G5: Proviene de | L5: O/P | M5: Razon | N5: DOCENTE SALIDO
G6: Cargo | H6: Nº Mod/Hs. | I6: Asignatura | J6: Distrito | K6: Esc. Nº
A7: EEST 2 | B7: 1
A10: EEST 6 | B10: 1
B11: 1
B12: 1
A36: SUMA | B36: =SUM($B$7:B31) -> 4
A37: BASE VACANTES | B37: =SUM('[1]005'!$U$21:$V$21) -> #REF!

Sheet EMATP Quim
C1: TRIBUNAL DE CLASIFICACION Nº 2- LANÚS
A2: REGION: 2 | E2: =BI!E2 -> PROPUESTA 2020/2021 | I2: Referencias: Distinguir con color MAD azul Acrecentamiento: verde Reincorporaciones: violeta Titulares interinos | K2: Otros Reubicaciones: naranja Renuncias: rojo Consecuencias: làpiz
A3: SECUNDARIA TECNICA | D3: EMATP QUIMICA
A4: DISTRITO: Avellaneda (005)
A5: A cubrir | B5: Mot | C5: DOCENTE ENTRADO: Apellido y Nombre | D5: DNI | E5: Puntaje | F5: Antig. | G5: Proviene de | L5: O/P | M5: Razon | N5: DOCENTE SALIDO
G6: Cargo | H6: Nº Mod/Hs. | I6: Asignatura | J6: Distrito | K6: Esc. Nº
A7: EEST 2 | B7: 1
A30: SUMA | B30: =SUM($B$7:B25) -> 1
A31: BASE VACANTES | B31: =SUM('[1]005'!$U$22:$V$22) -> #REF!

Sheet PAÑOL
C1: TRIBUNAL DE CLASIFICACION Nº 2- LANÚS
A2: REGION: 2 | E2: =BI!E2 -> PROPUESTA 2020/2021 | I2: Referencias: Distinguir con color MAD azul Acrecentamiento: verde Reincorporaciones: violeta Titulares interinos | K2: Otros Reubicaciones: naranja Renuncias: rojo Consecuencias: làpiz
A3: SECUNDARIA TECNICA | D3: PAÑOL
A4: DISTRITO: Avellaneda (005)
A5: A cubrir | B5: Mot | C5: DOCENTE ENTRADO: Apellido y Nombre | D5: DNI | E5: Puntaje | F5: Antig. | G5: Proviene de | L5: O/P | M5: Razon | N5: DOCENTE SALIDO
G6: Cargo | H6: Nº Mod/Hs. | I6: Asignatura | J6: Distrito | K6: Esc. Nº
A7: EEST 1 | B7: 1
B8: 1
B9: 1
A11: EEST 2 | B11: 1 | C11: BAROLO, Pablo Osvaldo T1 | D11: 27319327 | E11: 457.6 | F11: 7 | G11: PR | J11: 5 | K11: EST 2 | L11: UP | M11: S/R
A13: EEST 3 | B13: 1
A16: EEST 5 | B16: 1
A21: EEST 6 | B21: 1
A25: EEST 9 | B25: 1
A32: SUMA | B32: =SUM($B$7:B27) -> 8
A33: BASE VACANTES | B33: =SUM('[1]005'!$U$23:$V$23) -> #REF!
