Workbook

Sheet ES 1 
C1: TRIBUNAL DE CLASIFICACION Nº 2- LANÚS
A2: REGION: 2 | E2: PROPUESTA 2020/2021 | I2: Referencias: Distinguir con color MAD azul Acrecentamiento: verde Reincorporaciones: violeta Titulares interinos | K2: Otros Reubicaciones: naranja Renuncias: rojo Consecuencias: làpiz
A3: E.E.S. 1 | C3: MODULOS
A4: DISTRITO: Avellaneda (005)
A5: PID | B5: MOD | C5: Docentes Ingrersados Apellido y Nombre | D5: DNI | E5: Puntaje | F5: Antig. | G5: Proviene de | L5: O/P | M5: Razon | N5: Docentes Salidos
G6: Cargo | H6: Nº Mod/Hs. | I6: Asignatura | J6: Distrito | K6: Esc. Nº
A7: BLG | B7: 2
B8: 2
B9: 2
B10: 2
A13: CNT | B13: 4
B14: 4
B15: 4
A19: EMM | B19: 2
A24: FQA | B24: 2
B25: 2
A29: GGF | B29: 2 | C29: DOMINGUEZ, Gustavo Ariel | D29: 25811976 | E29: 334.8 | F29: 9 | G29: PM | H29: 2 | I29: GGF | J29: 5 | K29: EES 33 | L29: 1° | M29: C
B30: 2 | C30: DOMINGUEZ, Gustavo Ariel | D30: 25811976 | E30: 334.8 | F30: 9 | G30: PM | H30: 2 | I30: GGF | J30: 5 | K30: EES 33 | L30: 1° | M30: C
B31: 2
A33: HTR | B33: 2 V/C | C33: ONYSZCZUK, Claudia Liliana | D33: 16961749 | E33: 390 | F33: 4 | G33: PM | H33: 8 | I33: HTR | J33: 5 | K33: EEST 7 | L33: 4° | M33: C | N33: LIMA, N T1 a 2 Mód. HTR de EES 18
A39: MTM | B39: 4
B40: 4
B41: 4
B42: 4
B43: 4
B44: 4
B45: 4
B46: 4
B47: 4
B48: 4
B49: 4
B50: 4
B51: 4
A54: MCS | B54: 4
A58: PLG | B58: 4
B59: 4
B60: 4
B61: 4
B62: 4
B63: 4
A65: TYC | B65: 2 | C65: LOPEZ , Rosana Noemi | D65: 21436793 | E65: 460 | F65: 22 | G65: PM | H65: 2 | I65: DER | J65: 5 | K65: ES 2 | L65: 6° | M65: B
A68: SIC I | B68: 2
B69: 2
A72: TDO | B72: 2 | C72: LOPEZ , Rosana Noemi | D72: 21436793 | E72: 460 | F72: 22 | G72: PM | H72: 2 | I72: DER | J72: 5 | K72: ES 2 | L72: 7° | M72: B
A80: SUMA | B80: =SUM(B7:B75) -> 120
A81: BASE VACANTES | B81: #REF!

Sheet ES 2
C1: TRIBUNAL DE CLASIFICACION Nº 2- LANÚS
A2: REGION: 2 | E2: ='ES 1 '!E2 -> PROPUESTA 2020/2021 | I2: Referencias: Distinguir con color MAD azul Acrecentamiento: verde Reincorporaciones: violeta Titulares interinos | K2: Otros Reubicaciones: naranja Renuncias: rojo Consecuencias: làpiz
A3: E. E. S. 2 | C3: MODULOS
A4: DISTRITO: Avellaneda (005)
A5: PID | B5: MOD | C5: Docentes Ingrersados Apellido y Nombre | D5: DNI | E5: Puntaje | F5: Antig. | G5: Proviene de | L5: O/P | M5: Razon | N5: Docentes Salidos
G6: Cargo | H6: Nº Mod/Hs. | I6: Asignatura | J6: Distrito | K6: Esc. Nº
A7: BGS | B7: 3
A12: CCD | B12: 2R | C12: PONTE, Pablo | D12: 18004810 | F12: Reubicación Definitiva 2021 2 mód. Dinámica Empresarial EEST N° 7 005
B13: 2R | C13: SILVA, Noelia | D13: 25978854 | F13: Reubicación Definitiva 2021 2 mód. CCD EES N° 22 005
B14: 2 | C14: ALBORNOZ, Maria Ines | D14: 20379573 | E14: 482,3 | F14: 16 | G14: PM | H14: 2 | I14: CCD | J14: 5 | K14: ES 31 | L14: 1° | M14: S/R
B15: 2 | C15: ALBORNOZ, Maria Ines | D15: 20379573 | E15: 482,3 | F15: 16 | G15: PM | H15: 2 | I15: CCD | J15: 5 | K15: ES 31 | L15: 1° | M15: S/R
B16: 2 | C16: ALBORNOZ, Maria Ines | D16: 20379573 | E16: 482,3 | F16: 16 | G16: PM | H16: 2 | I16: CCD | J16: 5 | K16: ES 31 | L16: 1° | M16: S/R
A18: DER | B18: 2R | C18: GARCIA, Maria | D18: 17392388 | F18: Reubicación Definitiva 2021 1 mód. Gest. Adm. RRHH + 2 Horas Cátedra Derecho EEST N° 7 005
A21: EMM | B21: 2 | C21: MUÑOZ, Patricia Alejandra | D21: 21164119 | E21: 601,3 | F21: 28 | G21: PM | H21: 2 | I21: EMM | J21: 5 | K21: ES 10 | L21: UP | M21: S/R
A23: FIS | B23: 3R | C23: NAGUR, Jorge | D23: 24398074 | F23: Reubicación Definitiva 2021 3 mód. Física EES N° 10 005
A27: FDQ | B27: 3
A29: GOR | B29: 2R | C29: FRETES, Eduardo | D29: 11528641 | F29: Reubicación Definitiva 2020 3 Horas Cátedra Esp. Cont EES N° 5 005
A31: GGF | B31: 2 | C31: CAFFARATTO, Sebastian Luciano T1 | D31: 25978386 | E31: 420 | F31: 9 | G31: PM | H31: 2 | I31: GGF | J31: 5 | K31: ES 26 | L31: 1° | M31: S/R
B32: 2
B33: 2
B34: 2
A38: FQA | B38: 2R | C38: SALDAÑA, Mariana | D38: 24744079 | F38: Reubicación Definitiva 2021 2 mód. BLG EES N° 17 085
B39: 2R | C39: CRUZ LUZ, Mariana | D39: 14347725 | F39: Reubicación Definitiva 2020 2 Horas Cátedra Química EES N° 2 y 1 Hora Cátdera de Química EES N° 3
B40: 2R | C40: CRUZ LUZ, Mariana | D40: 14347725 | F40: Reubicación Definitiva 2020 2 Horas Cátedra Química EES N° 6 y 1 Hora Cátdera de Química EES N° 3
B41: 2
B42: 2
B43: 2
A49: HTR | B49: 2R | C49: IGLESIAS, Gabriela | D49: 23923718 | F49: Reubicación Definitiva 2021 2 Mód. HTR EES N° 8 005
A52: IGS | B52: 2R | C52: BALDACCHINO, Marcelo | D52: 21093248 | F52: Reubicación Definitiva 2020 2 Horas Cátedra Inglés EES N° 4 005
B53: 2
B54: 2
A57: IAF | B57: 2 | C57: RODRIGUEZ, Miguel Angel | D57: 23098254 | E57: S/P | F57: 5 | G57: PM | H57: 2 | I57: IAF | J57: 85 | K57: ES 34 | L57: 1° | M57: S/R
B58: 2 | C58: RODRIGUEZ, Miguel Angel | D58: 23098254 | E58: S/P | F58: 5 | G58: PM | H58: 2 | I58: IAF | J58: 85 | K58: ES 34 | L58: 1° | M58: S/R
B59: 2
A62: IAQ | B62: 2
B63: 2
A66: LIT | B66: 2R | C66: DI NARDO, Maria | D66: 17805050 | F66: Reubicación Definitiva 2020 2 Horas Cátedra Lengua y Literatura EEST N° 6 005
B67: 2
A69: LIT | B69: 3
B70: 3
A72: MTM | B72: 4
A75: MCS | B75: 3R | C75: CLAROS ZURITA, Edilberto | D75: 18798436 | F75: Reubicación Definitiva 2021 3 Mód. Matemática EES N° 1 005
A78: NTI | B78: 2R | C78: PEREZ, Daniel Gustavo | D78: 21977998 | F78: Reubicación Definitiva 2020 3 Horas Cátedra Informática EES N° 1 y EES N° 2 005
B79: 2R | C79: PEREZ, Daniel Gustavo | D79: 21977998 | F79: Reubicación Definitiva 2020 3 Horas Cátedra Informática EES N° 2 y EEST N° 9 005
B80: 2 | C80: MARLETTA, Cecilia Laura | D80: 24157004 | E80: 492,6 | F80: 18 | G80: PM | H80: 2 | I80: NTI | J80: 5 | K80: ES 31 | L80: 1° | M80: S/R
A83: PLG | B83: 4R | C83: TORRES, Ezequiel | D83: 36155617 | F83: Reubicación Definitiva 2021 4 Mód. PLG EES N° 33 005
B84: 4
A86: PYC | B86: 2R | C86: LIZARRAGA, Marcela | D86: 17580084 | F86: Reubicación Definitiva 2020 2 Horas Cátedra Legislación Impositiva EES N° 1 005
A89: SIC II | B89: 4R | C89: FRETES, Eduardo | D89: 11528641 | F89: Reubicación Definitiva 2020 5 Horas Cátedra Práctica Contable EES N° 3 005
A94: SUMA | B94: =SUM(B7:B89) -> 60
A95: BASE VACANTES | B95: #REF!

Sheet ES 3
C1: TRIBUNAL DE CLASIFICACION Nº 2- LANÚS
A2: REGION: 2 | E2: ='ES 1 '!E2 -> PROPUESTA 2020/2021 | I2: Referencias: Distinguir con color MAD azul Acrecentamiento: verde Reincorporaciones: violeta Titulares interinos | K2: Otros Reubicaciones: naranja Renuncias: rojo Consecuencias: làpiz
A3: E.E.S. 3 | C3: MODULOS
A4: DISTRITO: Avellaneda (005)
A5: PID | B5: MOD | C5: Docentes Ingrersados Apellido y Nombre | D5: DNI | E5: Puntaje | F5: Antig. | G5: Proviene de | L5: O/P | M5: Razon | N5: Docentes Salidos
G6: Cargo | H6: Nº Mod/Hs. | I6: Asignatura | J6: Distrito | K6: Esc. Nº
A7: RTE | B7: 2R | C7: MUSIMESI, Lorena | D7: 26284695 | F7: Reubicación Definitiva 2021 2 Mód. RTE EES N° 2 005
A9: BLG | B9: 2
B10: 2
A12: CSC | B12: 4
A15: CCD | B15: 2 | C15: BAÑES, Andrea Laura | D15: 27008515 | E15: 414.6 | F15: 19 | G15: PM | H15: 10 | I15: CCD | J15: 5 | K15: EES 1 | L15: 3° | M15: B
B16: 2 | C16: BAÑES, Andrea Laura | D16: 27008515 | E16: 414.6 | F16: 19 | G16: PM | H16: 10 | I16: CCD | J16: 5 | K16: EES 1 | L16: 3° | M16: B
B17: 2V/C | N17: YACANTE T2 2M EFC - ES 3
B18: 2V/C | N18: YACANTE T2 2M EFC - ES 11
A20: FCT | B20: 2
A23: FQA | B23: 2R | C23: DE LORENZO, Paola | D23: 22784444 | F23: Reubicación Definitiva 2020 2 Horas Cátedra Física EES N° 5 005
B24: 2R | C24: RODRIGUEZ, Ruben | D24: 11389183 | F24: Reubicación Definitiva 2020 3 Horas Cátedra Proyecto y Diseño Industrial EEST N° 8 005
A26: GGF | B26: 2
B27: 2
A30: HTR | B30: 2 | C30: ALONSO, Carlos Miguel | D30: 34178312 | E30: 430 | F30: 8 | G30: PM | H30: 3 | I30: HTR | J30: 5 | K30: EES 2 | L30: 2° | M30: C
B31: 2 | C31: ALONSO, Carlos Miguel | D31: 34178312 | E31: 430 | F31: 8 | G31: PM | H31: 3 | I31: HTR | J31: 5 | K31: EES 2 | L31: 2° | M31: C
A34: IGS | B34: 2
B35: 2
B36: 2
B37: 2
B38: 2
B39: 2
A42: IAF | B42: 2
A46: IAQ | B46: 2
A49: LIT | B49: 3 | C49: FIGUEROA, Monica Isabel T2 | D49: 14825902 | E49: 554,2 | F49: 23 | G49: PM | H49: 2 | I49: LIT | J49: 5 | K49: ES 4 | L49: UP | M49: S/R
B50: 3 | C50: FIGUEROA, Monica Isabel T3 | D50: 14825902 | E50: 554,2 | F50: 23 | G50: PM | H50: 3 | I50: LIT | J50: 5 | K50: ES 4 | L50: UP | M50: S/R
B51: 3 | C51: FIGUEROA, Monica Isabel T4 | D51: 14825902 | E51: 565.3 | F51: 23 | G51: PM | H51: 4 | I51: PLG | J51: 5 | K51: EST 4 | L51: UP | M51: S/R
A54: LIT | B54: 2 | C54: FIGUEROA, Monica Isabel T1 | D54: 14825902 | E54: 554,2 | F54: 23 | G54: PM | H54: 2 | I54: LIT | J54: 5 | K54: ES 4 | L54: 1° | M54: S/R
A57: PLG | B57: 4R | C57: RODRIGUEZ, Geraldine | D57: 36673617 | F57: Reubicación Definitiva 2021 4 Mód. PLG EES N° 33 005
B58: 4
B59: 4
B60: 4
B61: 4
A69: MTM | B69: 4 | C69: FERNANDEZ, Lucia Noemi | D69: 33100999 | E69: 424.4 | F69: 9 | G69: PM | H69: 4 | I69: MTM | J69: 5 | K69: EES 3 | L69: 1° | M69: B
B70: 4 | C70: FERNANDEZ, Lucia Noemi | D70: 33100999 | E70: 424.4 | F70: 9 | G70: PM | H70: 4 | I70: MTM | J70: 5 | K70: EES 3 | L70: 1° | M70: B
A73: NTI | B73: 2R | C73: MIRANDA, Walter | D73: 21602784 | F73: Reubicación Definitiva 2020 3 Horas Cátedra Informática EES N° 3 005
A77: PRO | B77: 4
A80: SYA | B80: 2
B81: 2
B82: 2
B83: 2
B84: 2
A89: TDO | B89: 2
A99: SUMA | B99: =SUM(B7:B92) -> 89
A100: BASE VACANTES | B100: #REF!

Sheet ES 4
C1: TRIBUNAL DE CLASIFICACION Nº 2- LANÚS
A2: REGION: 2 | E2: ='ES 1 '!E2 -> PROPUESTA 2020/2021 | I2: Referencias: Distinguir con color MAD azul Acrecentamiento: verde Reincorporaciones: violeta Titulares interinos | K2: Otros Reubicaciones: naranja Renuncias: rojo Consecuencias: làpiz
A3: E.E.S. 4 | C3: MODULOS
A4: DISTRITO: Avellaneda (005)
A5: PID | B5: MOD | C5: Docentes Ingrersados Apellido y Nombre | D5: DNI | E5: Puntaje | F5: Antig. | G5: Proviene de | L5: O/P | M5: Razon | N5: Docentes Salidos
G6: Cargo | H6: Nº Mod/Hs. | I6: Asignatura | J6: Distrito | K6: Esc. Nº
A7: RTE | B7: 2
A10: BLG | B10: 2 | C10: LOPEZ, Liliana | D10: 16054069 | E10: 373,2 | F10: 7 | G10: PM | H10: 2 | I10: BLG | J10: 5 | K10: ES 26 | L10: 2° | M10: S/R
B11: 2
B12: 2
B13: 2
B14: 2
B15: 2
B16: 2
B17: 2
B18: 2
A22: CTD | B22: 2
A26: CCS | B26: 2
B27: 2 V/C | N27: CROCE , K T2 a 2 Mód CYC de EES 5
A29: DER | B29: 2 | C29: FREIRE, David Daniel | D29: 24114354 | E29: 490 | F29: 11 | G29: PR | J29: 5 | K29: ES 5 | L29: 4° | M29: S/R
A31: EPO | B31: 3R | C31: ESQUIVEL, Carlos | D31: 20406876 | F31: Reubicación Definitiva 2021 3 Mód. Economía EEST N° 7 005
A33: FCT | B33: 2
A35: FIS | B35: 3R | C35: GUARIDO, Christian | D35: 23102270 | F35: Reubicación Definitiva 2021 3 Mód. Matemática EEST N° 2 005
A38: FDQ | B38: 3
B39: 3
A42: FQA | B42: 2 | C42: GIL, Natalia Rosa T2 | D42: 18320912 | E42: S/P | F42: 10 | G42: PM | H42: 2 | I42: FQA | J42: 5 | K42: ES 30 | L42: 2° | M42: S/R
B43: 2
B44: 2
A46: GGF | B46: 2
A50: HTR | B50: 2 | C50: DELMENICO, Carolina Elizabeth | D50: 29558233 | E50: 496,2 | F50: 8 | G50: PM | H50: 62 | I50: HTR | J50: 5 | K50: ES 31 | L50: 1° | M50: S/R
B51: 2 | C51: DELMENICO, Carolina Elizabeth | D51: 29558233 | E51: 496,2 | F51: 8 | G51: PM | H51: 2 | I51: HTR | J51: 5 | K51: ES 31 | L51: 1° | M51: S/R
B52: 2 V/C | N52: ALVARELLOS, V a 2 Mód. HTR de EES 12
B53: 2 V/C | N53: GORO BERROA a 2 Mód. HTR de EES 9
B54: 3 V/C | N54: GORO BERROA a 2 Mód. HTR de EES 9
A58: IGS | B58: 2
B59: 2
B60: 2
A63: IAQ | B63: 2
A66: LIT | B66: 2
B67: 2 V/C | N67: FIGUEROA, M T1 a 2 Mód. LIT de EES 3
B68: 2 V/C | N68: FIGUEROA, M T2 a 3 Mód. LIT de EES 3
A70: LIT | B70: 3R | C70: ALVAREZ, Nestor | D70: 27649826 | F70: Reubicación Definitiva 2020 3 Horas Cátedra Lengua y Literatura EES N° 3 005
B71: 3R | C71: PASCAL, Maria | D71: 20507779 | F71: Reubicación Definitiva 2020 3 Horas Cátedra Lengua y Literatura EEST N° 3 y 2Mód. Lenli EES N° 1 005
B72: 3
B73: 3 V/C | N73: FIGUEROA, M T3 a 3 Mód. LIT en EES 3
A75: MTM | B75: 4
B76: 4
B77: 4
B78: 4
B79: 4
B80: 4 V/C | N80: BO, M a 3 Mód. MCS de EES 4
B81: 4 V/C | N81: BO, M a 3 Mód. MCS de EES 4
B82: 4 V/C | N82: BO, M a 6 Mód. MCS de EES 4
A84: MCS | B84: 3 | C84: BO, Monica Cristina | D84: 17213200 | E84: 475,5 | F84: 19 | G84: PM | H84: 3 | I84: MTM | J84: 5 | K84: ES 4 | L84: UP | M84: S/R
B85: 3 | C85: BO, Monica Cristina | D85: 17213200 | E85: 475,5 | F85: 19 | G85: PM | H85: 3 | I85: MTM | J85: 5 | K85: ES 4 | L85: UP | M85: S/R
B86: 3 | C86: BO, Monica Cristina | D86: 17213200 | E86: 475,5 | F86: 19 | G86: PM | H86: 3 | I86: MTM | J86: 5 | K86: ES 4 | L86: UP | M86: S/R
B87: 3 | C87: BO, Monica Cristina | D87: 17213200 | E87: 475,5 | F87: 19 | G87: PM | H87: 3 | I87: MTM | J87: 5 | K87: ES 4 | L87: UP | M87: S/R
B88: 3
B89: 3
B90: 3
A95: NTI | B95: 2R | C95: PEREZ, Daniel Gustavo | D95: 21977998 | F95: Reubicación Definitiva 2020 2 Horas Cátedra Informática EEST N° 6 005
A98: PLG | B98: 4
B99: 4
A103: PYC | B103: 2
B104: 2
B105: 2
A108: SYA | B108: 2
B109: 2
B110: 2
A113: SIC I | B113: 2
A116: SOC | B116: 3
A125: SUMA | B125: =SUM($B$7:B118) -> 125
A126: BASE VACANTES | B126: #REF!

Sheet ES 5
C1: TRIBUNAL DE CLASIFICACION Nº 2- LANÚS
A2: REGION: 2 | E2: ='ES 1 '!E2 -> PROPUESTA 2020/2021 | I2: Referencias: Distinguir con color MAD azul Acrecentamiento: verde Reincorporaciones: violeta Titulares interinos | K2: Otros Reubicaciones: naranja Renuncias: rojo Consecuencias: làpiz
A3: E. E. S. 5 | C3: MODULOS
A4: DISTRITO: Avellaneda (005)
A5: PID | B5: MOD | C5: Docentes Ingrersados Apellido y Nombre | D5: DNI | E5: Puntaje | F5: Antig. | G5: Proviene de | L5: O/P | M5: Razon | N5: Docentes Salidos
G6: Cargo | H6: Nº Mod/Hs. | I6: Asignatura | J6: Distrito | K6: Esc. Nº
A7: BLG | B7: 2R | C7: CALLEJO, Gustavo | D7: 25513580 | F7: Reubicación Definitiva 2021 2 mód. BLG EES N° 3 005
B8: 2
B9: 2
B10: 2
B11: 2
A13: CYC | B13: 2 V/C | C13: CROCE , Karina Isabel T2 | D13: 21436877 | E13: 329.1 | F13: 3 | G13: PM | H13: 2 | I13: CCS | J13: 5 | K13: ES 4 | L13: 2° | M13: S/R | N13: GALLI, N T1 a 2 Mód. CYC de EES 32
A16: CNT | B16: 4
B17: 4
B18: 4
B19: 4
A21: CCS | B21: 2
A23: CSC | B23: 4
A26: CYT | B26: 2
A29: CCD | B29: 2 | C29: ESPINOSA, Magali Mariana | D29: 30307415 | E29: 510 | F29: 16 | G29: PM | H29: 2 | I29: PAI | J29: 5 | K29: ES 24 | L29: 2° | M29: S/R
B30: 2 | C30: LOPEZ, Guillermo Javier T1 | D30: 26127066 | E30: 425.40 | F30: 12 | G30: PR | J30: 5 | K30: ES 12 | L30: 2° | M30: S/R
B31: 2 | C31: LOPEZ, Guillermo Javier T1 | D31: 26127066 | E31: 425.40 | F31: 12 | G31: PR | J31: 5 | K31: ES 12 | L31: 2° | M31: S/R
B32: 2 | C32: LOPEZ, Guillermo Javier T1 | D32: 26127066 | E32: 425.40 | F32: 12 | G32: PR | J32: 5 | K32: ES 12 | L32: 2° | M32: S/R
B33: 2 | C33: LOPEZ, Guillermo Javier T1 | D33: 26127066 | E33: 425.40 | F33: 12 | G33: PR | J33: 5 | K33: ES 12 | L33: 2° | M33: S/R
B34: 2 V/C | C34: LOPEZ, Guillermo Javier T1 | D34: 26127066 | E34: 425.40 | F34: 12 | G34: PR | J34: 5 | K34: ES 12 | L34: 2° | M34: S/R | N34: GIURINCICH, G a 2 Mód. HTR de EES 7
A40: FQA | B40: 2R | C40: BRUNO, Marcela | D40: 20023464 | F40: Reubicación Definitiva 2020 3 Horas Cátedra Matemática EES N° 5 005
B41: 2
B42: 2
A44: GGF | B44: 2
B45: 2
A51: HTR | B51: 2R | C51: LOPEZ, Armando | D51: 13832116 | F51: Reubicación Definitiva 2020 2 Módulos Historia EES N° 7 005
A55: IGS | B55: 2R | C55: DALLORTO, Valeria | D55: 26479124 | F55: Reubicación Definitiva 2020 2 Horas Cátedra Inglés EES N° 5 005
B56: 2
B57: 2
A59: LIT | B59: 3
B60: 3
A63: MTM | B63: 4
B64: 4
B65: 4
A67: MCS | B67: 4
A70: NTI | B70: 2R | C70: FAGINI, Norberto | F70: Reubicación Definitiva 2020 2 Horas Cátedra Informática EEST N° 4 005
B71: 2
B72: 2
A74: PLG | B74: 4 | C74: ALFARO, Gabriela T2 | D74: 32881427 | E74: 322.4 | F74: 5 | G74: PM | H74: 4 | I74: PLG | J74: 5 | K74: ES 11 | L74: UP | M74: S/R
B75: 4
A79: TCI | B79: 3
B80: 3
B81: 3
A84: OCL | B84: 4 | C84: CROCE , Karina Isabel T1 | D84: 21436877 | E84: 559.10 | F84: 2 | G84: PM | H84: 4 | I84: OCL | J84: 5 | K84: ES 8 | L84: 1° | M84: S/R
B85: 4
B86: 4
A88: OCS | B88: 3 V/C | N88: GALLI, N T2 a 3 Mód. TCI de EES 32
A92: ODM | B92: 3
B93: 3
A96: SYA | B96: 2
A101: SIC I | B101: 2
A111: SUMA | B111: =SUM($B$7:B104) -> 119
A112: BASE VACANTES | B112: #REF!

Sheet ES 6
C1: TRIBUNAL DE CLASIFICACION Nº 2- LANÚS
A2: REGION: 2 | E2: ='ES 1 '!E2 -> PROPUESTA 2020/2021 | I2: Referencias: Distinguir con color MAD azul Acrecentamiento: verde Reincorporaciones: violeta Titulares interinos | K2: Otros Reubicaciones: naranja Renuncias: rojo Consecuencias: làpiz
A3: E. E. S. 6 | C3: MODULOS
A4: DISTRITO: Avellaneda (005)
A5: PID | B5: MOD | C5: Docentes Ingrersados Apellido y Nombre | D5: DNI | E5: Puntaje | F5: Antig. | G5: Proviene de | L5: O/P | M5: Razon | N5: Docentes Salidos
G6: Cargo | H6: Nº Mod/Hs. | I6: Asignatura | J6: Distrito | K6: Esc. Nº
A7: BLG | B7: 2
B8: 2
B9: 2
A11: CCD | B11: 2
B12: 2
B13: 2
A16: CSC | B16: 4
A18: CCS | B18: 2
A20: EPO | B20: 2R | C20: MORALES, Estela | D20: 13679796 | F20: Reubicación Definitiva 2020 2 Horas Cátedra Legislación Impositiva EES N° 6 005
A22: EMM | B22: 2
A24: GGF | B24: 3
B25: 3
A27: GGF | B27: 2
B28: 2
B29: 2
A31: HTR | B31: 3
B32: 3
A35: IGS | B35: 2
B36: 2
B37: 2
A40: IAF | B40: 2R | C40: PEREZ RECAREY, Veronica | D40: 18663928 | F40: Reubicación Definitiva 2020 3 Horas Cátedra Química EES N° 4 005
A43: IAQ | B43: 2R | C43: PEREZ RECAREY, Veronica | D43: 18663928 | F43: Reubicación Definitiva 2020 3 Horas Cátedra Matemática EES N° 6 005
B44: 2
B45: 2
A47: LIT | B47: 3
A49: LIT | B49: 2
A52: MTM | B52: 4
B53: 4
A56: MCS | B56: 3
B57: 3
B58: 3
A61: NTI | B61: 2
A65: PYC | B65: 2R | C65: BORGOGNA, Nelida | D65: 6511998 | F65: Reubicación Definitiva 2020 3 Horas Cátedra Economía EES N° 6 005
B66: 2
B67: 2
A69: PLG | B69: 4
A71: SOC | B71: 3
A73: SIC I | B73: 2
A75: SYA | B75: 2
A82: SUMA | B82: =SUM($B$7:B76) -> 87
A83: BASE VACANTES | B83: #REF!

Sheet ES 7
C1: TRIBUNAL DE CLASIFICACION Nº 2- LANÚS
A2: REGION: 2 | E2: ='ES 1 '!E2 -> PROPUESTA 2020/2021 | I2: Referencias: Distinguir con color MAD azul Acrecentamiento: verde Reincorporaciones: violeta Titulares interinos | K2: Otros Reubicaciones: naranja Renuncias: rojo Consecuencias: làpiz
A3: E. E. S. 7 | C3: MODULOS
A4: DISTRITO: Avellaneda (005)
A5: PID | B5: MOD | C5: Docentes Ingrersados Apellido y Nombre | D5: DNI | E5: Puntaje | F5: Antig. | G5: Proviene de | L5: O/P | M5: Razon | N5: Docentes Salidos
G6: Cargo | H6: Nº Mod/Hs. | I6: Asignatura | J6: Distrito | K6: Esc. Nº
A7: RTE | B7: 2 | C7: ESPINOSA, Magali Mariana | D7: 30307415 | E7: 510 | F7: 16 | G7: PM | H7: 2 | I7: PAI | J7: 5 | K7: ES 24 | L7: 2° | M7: S/R
A10: CNT | B10: 4 | C10: LOPEZ, Liliana | D10: 16054069 | E10: 373.2 | F10: 7 | G10: PM | H10: 4 | I10: BLG | J10: 5 | K10: ES 26 | L10: 2° | M10: S/R
B11: 4
A13: DER | B13: 2R | C13: BREGLIA, Luis | D13: 21099853 | F13: Reubicación Definitiva 2020 2 Horas Cátedra Sociología EES N° 4 005
B14: 2 | C14: FREIRE, David Daniel | D14: 24114354 | E14: 490 | F14: 11 | G14: PR | J14: 5 | K14: ES 5 | L14: 1° | M14: S/R
A16: EMM | B16: 2
B17: 2
B18: 2
A20: EPO | B20: 3
A23: FIA | B23: 2
B24: 2
A26: GGF | B26: 2
B27: 2
B28: 2
A30: GOR | B30: 2
B31: 2
A33: HTR | B33: 2R | C33: ONYSZCZUK, Claudia | D33: 16961749 | F33: Reubicación Definitiva 2021 2 Mód. HTR EES N° 1 005
B34: 2 | C34: GIURINCICH, German Daniel | D34: 30364398 | E34: 439 | F34: 8 | G34: PM | H34: 2 | I34: CCD | J34: 5 | K34: ES 5 | L34: 3° | M34: S/R
A36: IGS | B36: 2
B37: 2
B38: 2
B39: 2
B40: 2
B41: 2
B42: 2
B43: 2
B44: 2
B45: 2
B46: 2
B47: 2
A51: IAQ | B51: 2
B52: 2
B53: 2
A55: LIT | B55: 3R | C55: PASCAL, Maria | D55: 20507779 | F55: Reubicación Definitiva 2020 3 Horas Cátedra Lengua y Literatura EEST N° 4 005
B56: 3
B57: 3
B58: 3
A60: LIT | B60: 2
B61: 2
A65: MCS | B65: 3 | C65: ESCALANTE, Nerina | D65: 32949790 | E65: 376,8 | F65: 10 | G65: PM | H65: 3 | I65: MTM | J65: 5 | K65: ES 7 | L65: UP | M65: S/R
B66: 3
B67: 3
B68: 3
B69: 3
A71: MCS | B71: 4 | C71: ESCALANTE, Nerina | D71: 32949790 | E71: 376.8 | F71: 10 | G71: PM | H71: 4 | I71: MTM | J71: 5 | K71: ES 7 | L71: UP | M71: S/R
B72: 4 | C72: ESCALANTE, Nerina | D72: 32949790 | E72: 376.8 | F72: 10 | G72: PM | H72: 4 | I72: MTM | J72: 5 | K72: ES 7 | L72: UP | M72: S/R
A74: MTM | B74: 4 V/C | N74: ESCALANTE, N a 4 Mód. MCS de EES 7
B75: 4 V/C | N75: ESCALANTE, N a 4 Mód. MCS de EES 7
B76: 4 V/C | N76: ESCALANTE, N a 3 Mód. MCS de EES 7
A78: NTI | B78: 2
A80: TYC | B80: 2 | C80: FREIRE, David Daniel | D80: 24114354 | E80: 490 | F80: 11 | G80: PR | J80: 5 | K80: ES 5 | L80: 1° | M80: S/R
A82: PYC | B82: 2 | C82: FREIRE, David Daniel | D82: 24114354 | E82: 490 | F82: 11 | G82: PR | J82: 5 | K82: ES 5 | L82: 1° | M82: S/R
A85: PRO | B85: 4
A88: SIC II | B88: 4R | C88: PANTAZIS, Pedro | D88: 10932082 | F88: Reubicación Definitiva 2020 3 Horas Cátedra Economía EES N° 1 005 y 3 Horas Cátedra Economía EES N° 12 005
A91: SIC I | B91: 2
B92: 2
A95: TDO | B95: 2
A103: SUMA | B103: =SUM($B$7:B97) -> 119
A104: BASE VACANTES | B104: #REF!

Sheet ES 8
C1: TRIBUNAL DE CLASIFICACION Nº 2- LANÚS
A2: REGION: 2 | E2: ='ES 1 '!E2 -> PROPUESTA 2020/2021 | I2: Referencias: Distinguir con color MAD azul Acrecentamiento: verde Reincorporaciones: violeta Titulares interinos | K2: Otros Reubicaciones: naranja Renuncias: rojo Consecuencias: làpiz
A3: E. E. S. 8 | C3: MODULOS
A4: DISTRITO: Avellaneda (005)
A5: PID | B5: MOD | C5: Docentes Ingrersados Apellido y Nombre | D5: DNI | E5: Puntaje | F5: Antig. | G5: Proviene de | L5: O/P | M5: Razon | N5: Docentes Salidos
G6: Cargo | H6: Nº Mod/Hs. | I6: Asignatura | J6: Distrito | K6: Esc. Nº
A7: CNT | B7: 4
B8: 4
A12: CCD | B12: 2R | C12: TORRES, Jorge | D12: 22251248 | F12: Reubicación Definitiva 2020 2 Horas Cátedra Informática EES N° 10 005
B13: 2
A16: EMM | B16: 2
A19: FQA | B19: 2
B20: 2
A24: GGF | B24: 2
B25: 2
B26: 2
B27: 2
B28: 2
B29: 2
B30: 2
B31: 2 V/C | N31: PAREDES, A T1 a 2 Mód. GGF de EES 23
A33: HTR | B33: 2
B34: 2
B35: 2
A38: IGS | B38: 2
B39: 2
A42: IAF | B42: 2R | C42: GUARIDO, Christian | D42: 23102270 | F42: Reubicación Definitiva 2021 2 Mód. IAF EES N° 7 005
A45: LIT | B45: 3
B46: 3
A50: MCS | B50: 4 V/C | N50: CARUSO, A a 4 Mód. MCS de EES 35
A53: MTM | B53: 4
A56: OCS | B56: 3
A59: ODM | B59: 3
A62: PLG | B62: 4R | C62: ARMOA, Marina | D62: 24767129 | F62: Reubicación Definitiva 2021 4 Mód. PLG EES N° 34 005
B63: 4
B64: 4
B65: 4
A69: TCI | B69: 3
A72: OCL | B72: 4
B73: 4 V/C | N73: CROCE , K a 4 Mód. OCL en EES 5
A82: SUMA | B82: =SUM($B$7:B76) -> 75
A83: BASE VACANTES | B83: #REF!

Sheet ES 9
C1: TRIBUNAL DE CLASIFICACION Nº 2- LANÚS
A2: REGION: 2 | E2: ='ES 1 '!E2 -> PROPUESTA 2020/2021 | I2: Referencias: Distinguir con color MAD azul Acrecentamiento: verde Reincorporaciones: violeta Titulares interinos | K2: Otros Reubicaciones: naranja Renuncias: rojo Consecuencias: làpiz
A3: E. E. S. 9 | C3: MODULOS
A4: DISTRITO: Avellaneda (005)
A5: PID | B5: MOD | C5: Docentes Ingrersados Apellido y Nombre | D5: DNI | E5: Puntaje | F5: Antig. | G5: Proviene de | L5: O/P | M5: Razon | N5: Docentes Salidos
G6: Cargo | H6: Nº Mod/Hs. | I6: Asignatura | J6: Distrito | K6: Esc. Nº
A7: RTE | B7: 2 | C7: NAVARRETE, Viviana Karina | D7: 22452781 | E7: 340 | F7: 6 | G7: PM | H7: 3 | I7: MDP | J7: 5 | K7: EP 51 | L7: 2° | M7: S/R
B8: 2 | C8: NAVARRETE, Viviana Karina | D8: 22452781 | E8: 340 | F8: 6 | G8: PM | H8: 3 | I8: MDP | J8: 5 | K8: EP 51 | L8: 2° | M8: S/R
A10: BLG | B10: 2
B11: 2 V/C | N11: GIOMI, R T1 a 2 Mód. BLG de EES 52 (111)
B12: 2 V/C | N12: GIOMI, R T1 a 2 Mód. BLG de EES 52 (111)
A15: CSC | B15: 4 | C15: SMIRIGLIA, Nicolas Daniel T2 | D15: 26926050 | E15: S/P | F15: 14 | G15: PM | H15: 4 | I15: HTR | J15: 085 | K15: ES 8 | L15: 1° | M15: S/R
A18: CCS | B18: 2 | C18: RUTYNA, Nancy Edith T2 | D18: 22982985 | E18: 342.2 | F18: 19 | G18: PM | H18: 2 | I18: CCS | J18: 5 | K18: ES 10 | L18: UP | M18: S/R
B19: 2R | C19: RUTYNA, Nancy | D19: 22982985 | F19: Reubicación Definitiva 2020 3 Horas Cátedra Problemática Social Contemporánea EES N° 5 005
B20: 2
B21: 2
A25: EPO | B25: 2 | C25: LAGO, Fabiana Lorena | D25: 26863642 | E25: S/P | F25: 4 | G25: PM | H25: 5 | I25: EPO | J25: 5 | K25: ES 9 | L25: 1° | M25: B
A30: GGF | B30: 2
A33: GGF | B33: 3
B34: 3
A37: HTR | B37: 2R | C37: MEDRANO, Amelia | D37: 17931334 | F37: Reubicación Definitiva 2020 3 Horas Cátedra Historia EEST N° 2 005
B38: 2 V/C | C38: GORO BERROA, Valentin | D38: 21976495 | E38: 397.90 | F38: 3 | G38: PM | H38: 2 | I38: HTR | J38: 5 | K38: ES 4 | L38: 1° | M38: S/R | N38: ALONSO, C a 2 Mód. HTR de EES 33
A42: HTR | B42: 3 | C42: GORO BERROA, Valentin | D42: 21976495 | E42: 397.90 | F42: 3 | G42: PM | H42: 3 | I42: HTR | J42: 5 | K42: ES 4 | L42: 1° | M42: S/R
A44: IGS | B44: 2R | C44: EUREDJIAN, Marcelo | D44: 23980215 | F44: Reubicación Definitiva 2020 2 Horas Cátedra Inglés EES N° 5 005
B45: 2
B46: 2
B47: 2
B48: 2
B49: 2
B50: 2
A53: IAQ | B53: 2R | C53: DI TULLIO, Paula | D53: 22708652 | F53: Reubicación Definitiva 2020 3 Horas Cátedra Procesos y Productos IndustrialesEEST N° 6 005
A56: IAF | B56: 2R | C56: GUARIDO, Christian | D56: 23102270 | F56: Reubicación Definitiva 2020 3 Horas Cátedra Procesos Industriales Productivos EEST N° 8 005
B57: 2
B58: 2
B59: 2
A61: LIT | B61: 2
A64: MTM | B64: 4 | C64: GRANDI, Nora Mabel | D64: 17224196 | E64: S/P | F64: 6 | G64: PM | H64: 4 | I64: MTM | J64: 5 | K64: ES 22 | L64: 1° | M64: S/R
A67: MCS | B67: 3
A70: SOC | B70: 3 | C70: CARBONE, Silvina Elsa | D70: 32638982 | E70: 330 | F70: 8 | G70: PM | H70: 4 | I70: PIC | J70: 5 | K70: EES 10 | L70: 2° | M70: C
A73: PYC | B73: 2R | C73: LIZARRAGA, Marcela | D73: 17580084 | F73: Reubicación Definitiva 2020 2 Horas Cátedra Legislación Impositiva EES N° 1 005
A76: PSI | B76: 2R | C76: PLANELLA, Ana Maria | D76: 10462902 | F76: Reubicación Definitiva 2020 3 Horas Cátedra Problemática Social Contemporánea EES N° 9 005
A79: TDO | B79: 2R | C79: RAMOS, Berta | D79: 12917264 | F79: Reubicación Definitiva 2021 3 Mód. SIC I EES N° 3 005
A87: SUMA | B87: =SUM($B$7:B81) -> 59
A88: BASE VACANTES | B88: #REF!

Sheet ES 10
C1: TRIBUNAL DE CLASIFICACION Nº 2- LANÚS
A2: REGION: 2 | E2: ='ES 1 '!E2 -> PROPUESTA 2020/2021 | I2: Referencias: Distinguir con color MAD azul Acrecentamiento: verde Reincorporaciones: violeta Titulares interinos | K2: Otros Reubicaciones: naranja Renuncias: rojo Consecuencias: làpiz
A3: E. E. S. 10 | C3: MODULOS
A4: DISTRITO: Avellaneda (005)
A5: PID | B5: MOD | C5: Docentes Ingrersados Apellido y Nombre | D5: DNI | E5: Puntaje | F5: Antig. | G5: Proviene de | L5: O/P | M5: Razon | N5: Docentes Salidos
G6: Cargo | H6: Nº Mod/Hs. | I6: Asignatura | J6: Distrito | K6: Esc. Nº
A7: ADS | B7: 2R | C7: FOGGIA, Miriam | D7: 16401877 | F7: Reubicación Definitiva 2021 2 mód. CDT EES N° 10 005
B8: 2
A12: BGS | B12: 3
A15: CNT | B15: 4
A18: CCS | B18: 2 V/C | N18: RUTYNA, N T2 a 2 Mód. CCS de EES 9
A21: CSC | B21: 4 | C21: MOURELLE, Cecilia | D21: 22365162 | E21: 513 | F21: 11 | G21: PM | H21: 8 | I21: HTR | J21: 5 | K21: EES 32 | L21: 4° | M21: C
A23: DER | B23: 2R | C23: RODRIGUEZ, Aanalia | D23: 25731098 | F23: Reubicación Definitiva 2021 2 mód. PYC EES N° 10 005
A26: EMM | B26: 2R | C26: MORALES, Estela | D26: 13679796 | F26: Reubicación Definitiva 2021 2 mód. SIC I EES N° 12 005
B27: 2 V/C | N27: MUÑOZ, P a 2 Mód EMM de EES 2
A31: FIA | B31: 2
B32: 2
A35: FCT | B35: 2
A38: FQA | B38: 2
B39: 2
B40: 2
B41: 2
A44: FDQ | B44: 3
A53: IGS | B53: 2
B54: 2
B55: 2
A62: IAQ | B62: 2
B63: 2
B64: 2 V/C | N64: Genestouse T3 a 2 Mód. FQA de EES 2 (D 072)
A66: LIT | B66: 3
A69: LIT | B69: 2
B70: 2
A75: MCS | B75: 4 | C75: TOMEY VERA, Lilian Jaqueline | D75: 18837655 | E75: 326 | F75: 3 | G75: PM | H75: 12 | I75: MTM | J75: 5 | K75: ES 10 | L75: 2° | M75: C
B76: 4
A78: MCS | B78: 3R | C78: BRET, Nilda | D78: 21874604 | F78: Reubicación Definitiva 2020 3 Mód. MCS de EES N° 10 005
A81: PLG | B81: 4
B82: 4
B83: 4
B84: 4
A87: PIC | B87: 4R | C87: CARBONE, Silvina | D87: 32638982 | F87: Reubicación Definitiva 2020 6 Horas Cátedra Problemática Social Contemporánea EEST N° 6 y EEST N° 7 005
A90: QDC | B90: 3
B91: 3
A94: SYA | B94: 2R | C94: CARBONE, Silvina | D94: 32638982 | F94: Reubicación Definitiva 2020 3 Horas Cátedra Problemática Social Contemporánea EES N° 1 005 | H94: 4 | I94: PIC | J94: 5 | K94: EES 10 | L94: 1° | M94: C
B95: 2 | C95: CARBONE, Silvina Elsa | D95: 32638982 | E95: 330 | F95: 8 | G95: PM | H95: 4 | I95: PIC | J95: 5 | K95: EES 10 | L95: 1° | M95: C
B96: 2 | C96: CARBONE, Silvina Elsa | D96: 32638982 | E96: 330 | F96: 8 | G96: PM | H96: 4 | I96: PIC | J96: 5 | K96: EES 10 | L96: 1° | M96: C
B97: 2
A99: SIC II | B99: 4
A103: TYC | B103: 2 | C103: FREIRE, David Daniel | D103: 24114354 | E103: 490 | F103: 11 | G103: PR | J103: 5 | K103: ES 5 | L103: 5° | M103: S/R
A111: SUMA | B111: =SUM($B$7:B105) -> 89
A112: BASE VACANTES | B112: #REF!

Sheet ES 11
C1: TRIBUNAL DE CLASIFICACION Nº 2- LANÚS
A2: REGION: 2 | E2: ='ES 1 '!E2 -> PROPUESTA 2020/2021 | I2: Referencias: Distinguir con color MAD azul Acrecentamiento: verde Reincorporaciones: violeta Titulares interinos | K2: Otros Reubicaciones: naranja Renuncias: rojo Consecuencias: làpiz
A3: E. E. S. 11 | C3: MODULOS
A4: DISTRITO: Avellaneda (005)
A5: PID | B5: MOD | C5: Docentes Ingrersados Apellido y Nombre | D5: DNI | E5: Puntaje | F5: Antig. | G5: Proviene de | L5: O/P | M5: Razon | N5: Docentes Salidos
G6: Cargo | H6: Nº Mod/Hs. | I6: Asignatura | J6: Distrito | K6: Esc. Nº
A7: BGL | B7: 2R | C7: SARPA, Rene | D7: 21094866 | F7: Reubicación Definitiva 2021 2 mód. BLG EES N° 33 005
B8: 2R | C8: SARPA, Rene | D8: 21094866 | F8: Reubicación Definitiva 2021 2 mód. BLG EES N° 33 005
B9: 2
B10: 2
B11: 2
B12: 2
B13: 2
B14: 2
B15: 2
B16: 2
B17: 2
B18: 2
B19: 2 V/C | N19: ZARCO, D a 2 Mód. BLG de EES 18
B20: 2 V/C | N20: ZARCO, D a 2 Mód. BLG de EES 18
A24: CCD | B24: 2 | C24: FERRE, Sergio Luis | D24: 23314909 | E24: 411.9 | F24: 14 | G24: PR | J24: 5 | K24: ES 12 | L24: 1° | M24: S/R
B25: 2 | C25: FERRE, Sergio Luis | D25: 23314909 | E25: 411.9 | F25: 14 | G25: PR | J25: 5 | K25: ES 12 | L25: 1° | M25: S/R
B26: 2 | C26: FERRE, Sergio Luis | D26: 23314909 | E26: 411.9 | F26: 14 | G26: PR | J26: 5 | K26: ES 12 | L26: 1° | M26: S/R
B27: 2 | C27: FERRE, Sergio Luis | D27: 23314909 | E27: 411.9 | F27: 14 | G27: PR | J27: 5 | K27: ES 12 | L27: 1° | M27: S/R
B28: 2 | C28: FERRE, Sergio Luis | D28: 23314909 | E28: 411.9 | F28: 14 | G28: PR | J28: 5 | K28: ES 12 | L28: 1° | M28: S/R
A31: DER | B31: 2R | C31: GARCIA, Maria | D31: 17392388 | F31: Reubicación Definitiva 2020 4 Horas Cátedra Derecho EES N° 1 y 2 Horas Cátedra Administración Personal de EES N° 3 005
B32: 2R | C32: GARCIA, Maria | D32: 17392388
B33: 2R | C33: DE FEO, Leandra | D33: 21626344 | F33: Reubicación Definitiva 2020 4 Horas Cátedra Derecho EES N° 2 005
A35: EPO | B35: 3
A38: FDQ | B38: 3
A42: FQA | B42: 2
B43: 2
B44: 2
B45: 2 V/C | N45: Genestouse T2 a 2 Mód. FQA de EES 5 (D 072)
A47: GOR | B47: 2R | C47: SILVA SANDRA | D47: 21920990 | F47: Reubicación Definitiva 2021 de 2 Mód. EMMM de EES N° 1
B48: 2
B49: 2
A52: HTR | B52: 2 | C52: DELMENICO, Carolina Elizabeth | D52: 29558233 | E52: 496,2 | F52: 8 | G52: PM | H52: 2 | I52: HTR | J52: 5 | K52: ES 31 | L52: 1° | M52: S/R
A54: IAF | B54: 2
B55: 2
B56: 2
B57: 2
B58: 2
A61: IAQ | B61: 2
B62: 2
A65: LIT | B65: 3
B66: 3
B67: 3
B68: 3
B69: 3
B70: 3
B71: 3
B72: 3
B73: 3
A75: LIT | B75: 2R | C75: DAPENA, Monica | D75: 17213094 | F75: Reubicación Definitiva 2020 3 Horas Cátedra Lengua y Literatura EES N° 1 005
B76: 2
B77: 2
B78: 2
B79: 2
A82: NTI | B82: 2R | C82: TETAMANZI, Maria | D82: 16402860 | F82: Reubicación Definitiva 2020 2 Horas Cátedra Informática EES N° 6 005
B83: 2R | C83: TETAMANZI, Maria | D83: 16402860 | F83: Reubicación Definitiva 2020 2 Horas Cátedra Informática EES N° 6 005
B84: 2R | C84: TETAMANZI, Maria | D84: 16402860 | F84: Reubicación Definitiva 2020 2 Horas Cátedra Informática EES N° 9 005
B85: 2R | C85: TETAMANZI, Maria | D85: 16402860 | F85: Reubicación Definitiva 2020 4 Horas Cátedra Informática EES N° 9 y EES N° 12 005
A88: PLG | B88: 4 V/C | N88: ALFARO, G T2 a 4 Mód. PLG de EES 5
A92: PYC | B92: 2R | C92: DE FEO, Leandra | D92: 21626344 | F92: Reubicación Definitiva 2020 4 Horas Cátedra Derecho EES N° 2 005
B93: 2 | C93: MACRETTI, Clarisa Laura | D93: 21602197 | E93: 420 | F93: 21 | G93: PM | H93: 2 | I93: PYC | J93: 5 | K93: EES 11 | L93: 1° | M93: B
A96: PIC | B96: 4
A99: PRO | B99: 4R | C99: YACCARINO, Flavia | D99: 26010412 | F99: Reubicación Definitiva 2020 2 Horas Cátedra Cs. Básicas Aplicadas a la Producción y 2 Horas Cátedra Gestión de Procesos Induistriales EEST N° 4 005
B100: 4 V/C | N100: Piccin Exequiel a 2 Mód. EMM EES 3 (D 085)
B101: 4 V/C | N101: Piccin Exequiel a 6 Mód. EPO EES 3 (D 085)
A104: SIC II | B104: 4
B105: 4
A107: TYC | B107: 2
A110: TDO | B110: 2R | C110: SAMANIEGO, Carmen | D110: 18163483 | F110: Reubicación Definitiva 2020 3 Horas Cátedra Cs. Básicas Aplicadas a la Producción EEST N° 6 005
B111: 2
A119: SUMA | B119: =SUM($B$7:B113) -> 115
A120: BASE VACANTES | B120: #REF!

Sheet ES 12
C1: TRIBUNAL DE CLASIFICACION Nº 2- LANÚS
A2: REGION: 2 | E2: ='ES 1 '!E2 -> PROPUESTA 2020/2021 | I2: Referencias: Distinguir con color MAD azul Acrecentamiento: verde Reincorporaciones: violeta Titulares interinos | K2: Otros Reubicaciones: naranja Renuncias: rojo Consecuencias: làpiz
A3: E. E. S. 12 | C3: MODULOS
A4: DISTRITO: Avellaneda (005)
A5: PID | B5: MOD | C5: Docentes Ingrersados Apellido y Nombre | D5: DNI | E5: Puntaje | F5: Antig. | G5: Proviene de | L5: O/P | M5: Razon | N5: Docentes Salidos
G6: Cargo | H6: Nº Mod/Hs. | I6: Asignatura | J6: Distrito | K6: Esc. Nº
A7: BLG | B7: 2
B8: 2
B9: 2
B10: 2
B11: 2
B12: 2
B13: 2
B14: 2
B15: 2
B16: 2
A18: CDT | B18: 2 | C18: RICOY, Alejandro Leonel | D18: 31012695 | E18: 329.6 | F18: 4 | G18: PM | H18: 9 | I18: GGF | J18: 5 | K18: EES 12 | L18: 1° | M18: B
A21: CNT | B21: 4
B22: 4
B23: 4
A27: CCD | B27: 2 | C27: MOÑINO, Ignacio | D27: 28649625 | E27: 310 | F27: 4 | G27: PM | H27: 2 | I27: CCD | J27: 5 | K27: ES 31 | L27: 1° | M27: S/R
B28: 2 | C28: MOÑINO, Ignacio | D28: 28649625 | E28: 310 | F28: 4 | G28: PM | H28: 2 | I28: CCD | J28: 5 | K28: ES 31 | L28: 1° | M28: S/R
A30: DER | B30: 2
A33: EMM | B33: 2
A36: FCT | B36: 2
B37: 2
A40: FCM | B40: 3
A43: FDQ | B43: 3
A46: FQA | B46: 2
B47: 2
A50: GOR | B50: 2
A52: GGF | B52: 2 | C52: RICOY, Alejandro Leonel | D52: 31012695 | E52: 329.6 | F52: 4 | G52: PM | H52: 9 | I52: GGF | J52: 5 | K52: EES 12 | L52: 1° | M52: B
B53: 2 | C53: RICOY, Alejandro Leonel | D53: 31012695 | E53: 329.6 | F53: 4 | G53: PM | H53: 9 | I53: GGF | J53: 5 | K53: EES 12 | L53: 1° | M53: B
B54: 2 | C54: RICOY, Alejandro Leonel | D54: 31012695 | E54: 329.6 | F54: 4 | G54: PM | H54: 9 | I54: GGF | J54: 5 | K54: EES 12 | L54: 1° | M54: B
A56: HTR | B56: 2 | C56: ALVARELLOS, Valeria Romina | D56: 28175123 | E56: 443,4 | F56: 13 | G56: PM | H56: 2 | I56: HTR | J56: 5 | K56: ES 4 | L56: 1° | M56: S/R
B57: 3 V/C | C57: GILIO, Yanina Ines | D57: 29258974 | E57: 344 | F57: 4 | G57: PM | H57: 10 | I57: HTR | J57: 5 | K57: ES12 | L57: 1° | M57: B | N57: LIMA, N T2 a 3 Mód. HTR de EES 18
A60: ING | B60: 2
B61: 2
B62: 2
B63: 2
B64: 2
B65: 2
B66: 2
B67: 2
B68: 2
B69: 2
B70: 2
B71: 2
B72: 2
... B74: 2
A77: IAF | B77: 2
A82: MTM | B82: 4
B83: 4
B84: 4
B85: 4 V/C | N85: MARTINEZ FIGUEREDO a 4 Mód. MCS de EES 18
A87: LIT | B87: 2
A90: NTI | B90: 2
A94: PLG | B94: 4
B95: 4
B96: 4
B97: 4
B98: 4
B99: 4
B100: 4
B101: 4
B102: 4
B103: 4
B104: 4
B105: 4
A108: SYA | B108: 2 V/C | N108: FERNANDEZ, P a 2 Mód. SYA de EES 18
B109: 2 V/C | N109: FERNANDEZ, P a 4 Mód. PIC de EES 18
B110: 2 V/C
A113: SIC | B113: 2
A116: PYC | B116: 2R | C116: LOPREIATO, Pablo | D116: 23304868 | F116: Reubicación Definitiva 2020 3 Horas Cátedra Problamática Social Contemporánea EES N° 4 005
A118: TDO | B118: 2
B119: 2
A132: SUMA | B132: =SUM($B$7:B126) -> 168
A133: BASE VACANTES | B133: #REF!

Sheet ES 13
C1: TRIBUNAL DE CLASIFICACION Nº 2- LANÚS
A2: REGION: 2 | E2: ='ES 1 '!E2 -> PROPUESTA 2020/2021 | I2: Referencias: Distinguir con color MAD azul Acrecentamiento: verde Reincorporaciones: violeta Titulares interinos | K2: Otros Reubicaciones: naranja Renuncias: rojo Consecuencias: làpiz
A3: E. E. S. 13 | C3: MODULOS
A4: DISTRITO: Avellaneda (005)
A5: PID | B5: MOD | C5: Docentes Ingrersados Apellido y Nombre | D5: DNI | E5: Puntaje | F5: Antig. | G5: Proviene de | L5: O/P | M5: Razon | N5: Docentes Salidos
G6: Cargo | H6: Nº Mod/Hs. | I6: Asignatura | J6: Distrito | K6: Esc. Nº
A7: RTE | B7: 2 | C7: ACOSTA, Francisco Javier | D7: 22544500 | E7: 380 | F7: 17 | G7: PM | H7: 10 | I7: MPP | J7: 5 | K7: EP 63 | L7: 2° | M7: B
A10: BLG | B10: 2
B11: 2
B12: 2 V/C | N12: TOME, M a 2 Mód. BLG de EES 18
A15: CCS | B15: 2
A18: CCD | B18: 2R | C18: PIGLIAPOCO, Ramona | D18: 14246686 | F18: Reubicación Definitiva 2020 3 Horas Cátedra Informática EES N° 3 005
B19: 2R | C19: PIGLIAPOCO, Ramona | D19: 14246686 | F19: Reubicación Definitiva 2020 3 Horas Cátedra Informática EES N° 12 005
B20: 2R | C20: YACCARINO, Flavia | D20: 26010412 | F20: Reubicación Definitiva 2020 3 Horas Cátedra Cs. Básicas Aplicadas a la Producción EEST N° 4 005
A22: EPO | B22: 3 | C22: LAGO, Fabiana Lorena | D22: 26863642 | E22: S/P | F22: 4 | G22: PM | H22: 5 | I22: EPO | J22: 5 | K22: ES 9 | L22: 5° | M22: B
A24: GGF | B24: 2
A27: HTR | B27: 3R | C27: MAIDANA, Silvio | D27: 22756722 | F27: Reubicación Definitiva 2020 de 3 Horas Cátedra de Historia Geografía de EES N° 9
A32: IGS | B32: 2 V/C | N32: FICOCELLI , S a 2 Mód. IGS de EES 18
B33: 2 V/C | N33: FICOCELLI , S a 2 Mód. IGS de EES 18
B34: 2 V/C | N34: PAWLOWICZ, G a 2 Mód. IGS de EES 18
B35: 2 V/C | N35: PAWLOWICZ, G a 2 Mód. IGS de EES 18
B36: 2 V/C | N36: PAWLOWICZ, G a 2 Mód. IGS de EES 18
B37: 2 V/C | N37: PAWLOWICZ, G a 2 Mód. IGS de EES 18
B38: 2 V/C | N38: PAWLOWICZ, G a 2 Mód. IGS de EES 18
A41: IAQ | B41: 2
A43: IAF | B43: 2R | C43: KAMIL, Hector | D43: 11017576 | F43: Reubicación Definitiva 2020 2 Horas Cátedra Física EEST N° 7 005
B44: 2R | C44: KAMIL, Hector | D44: 11017576 | F44: Reubicación Definitiva 2020 2 Horas Cátedra Física EES N° 12 005
B45: 2R | C45: TRASMONTE, Omar | D45: 12861205 | F45: Reubicación Definitiva 2020 2 Horas Cátedra Física EES N° 5 005
A48: FQA | B48: 2R | C48: BUSTOS, Marcela | D48: 17781547 | F48: Reubicación Definitiva 2020 2 Horas Cátedra Física EES N° 9 005
B49: 2
B50: 2
B51: 2
B52: 2
B53: 2
A57: MTM | B57: 4 | C57: MARTINEZ, Casandra Ariana Noely | D57: 34573211 | E57: 360 | F57: 3 | G57: PM | H57: 8 | I57: MTM | J57: 5 | K57: EES 13 | L57: 1° | M57: B
B58: 4 | C58: MARTINEZ, Casandra Ariana Noely | D58: 34573211 | E58: 360 | F58: 3 | G58: PM | H58: 8 | I58: MTM | J58: 5 | K58: EES 13 | L58: 1° | M58: B
B59: 4 | C59: BUSTOS, Marcela Silvia | D59: 17781547 | E59: 359.2 | F59: 11 | G59: PM | H59: 10 | I59: MTM | J59: 5 | K59: EES 13 | L59: 1° | M59: B
A62: PIC | B62: 4
A65: PYC | B65: 2 | C65: PAEZ, Ramona Beatriz T2 | D65: 18422943 | E65: 599,3 | F65: 18 | G65: PM | H65: 2 | I65: PYC | J65: 5 | K65: ES 18 | L65: UP | M65: S/R
A67: TYC | B67: 2R | C67: RODRIGUEZ, Sonia | D67: 17399115 | F67: Reubicación Definitiva 2020 3 Horas Cátedra Legislación Impositiva EES N° 6 005
A70: TDO | B70: 2
A77: SUMA | B77: =SUM($B$7:B71) -> 45
A78: BASE VACANTES | B78: #REF!

Sheet ES 18
C1: TRIBUNAL DE CLASIFICACION Nº 2- LANÚS
A2: REGION: 2 | E2: ='ES 1 '!E2 -> PROPUESTA 2020/2021 | I2: Referencias: Distinguir con color MAD azul Acrecentamiento: verde Reincorporaciones: violeta Titulares interinos | K2: Otros Reubicaciones: naranja Renuncias: rojo Consecuencias: làpiz
A3: E. E. S. 18 | C3: MODULOS
A4: DISTRITO: Avellaneda (005)
A5: PID | B5: MOD | C5: Docentes Ingrersados Apellido y Nombre | D5: DNI | E5: Puntaje | F5: Antig. | G5: Proviene de | L5: O/P | M5: Razon | N5: Docentes Salidos
G6: Cargo | H6: Nº Mod/Hs. | I6: Asignatura | J6: Distrito | K6: Esc. Nº
A7: BLG | B7: 2 | C7: TOME, Maria Julia | D7: 13336171 | E7: 490 | F7: 16 | G7: PM | H7: 2 | I7: BLG | J7: 5 | K7: ES 13 | L7: UP | M7: S/R
B8: 2 | C8: ZARCO, Debora Cecilia | D8: 31096227 | E8: 350 | F8: 13 | G8: PM | H8: 2 | I8: BLG | J8: 5 | K8: ES 11 | L8: 1° | M8: S/R
B9: 2 | C9: ZARCO, Debora Cecilia | D9: 31096227 | E9: 350 | F9: 13 | G9: PM | H9: 2 | I9: BLG | J9: 5 | K9: ES 11 | L9: 1° | M9: S/R
B10: 2
A12: CNT | B12: 4
B13: 4
B14: 4
B15: 4
B16: 4
A19: CYC | B19: 2
A22: CYT | B22: 2
B23: 2R | C23: LOPREIATO, Pablo | D23: 23304868 | F23: Reubicación Definitiva 2020 3 Horas Cátedra Problemática Social Contemporánea EEST N° 4 005
A26: CCD | B26: 2
A29: EST II | B29: 3
B30: 3
A33: FQA | B33: 2 | C33: GIL, Natalia Rosa T1 | D33: 18320912 | E33: S/P | F33: 10 | G33: PM | H33: 2 | I33: FQA | J33: 5 | K33: ES 33 | L33: 1° | M33: S/R
A37: FRA | B37: 2
A40: HTR | B40: 2 | C40: LIMA, Nicolas Roberto T1 | D40: 23093191 | E40: 376 | F40: 10 | G40: PM | H40: 2 | I40: HTR | J40: 5 | K40: ES 1 | L40: UP | M40: S/R
B41: 2 | C41: DECESARE, Ariel Mariano | D41: 23454566 | E41: 405.2 | F41: 7 | G41: PM | H41: 8 | I41: CSC | J41: 5 | K41: EES 18 | L41: 2° | M41: C
B42: 2 | C42: DECESARE, Ariel Mariano | D42: 23454566 | E42: 405.2 | F42: 7 | G42: PM | H42: 8 | I42: CSC | J42: 5 | K42: EES 18 | L42: 2° | M42: C
A44: HTR | B44: 3 | C44: LIMA, Nicolas Roberto T2 | D44: 23093191 | E44: 376 | F44: 10 | G44: PM | H44: 3 | I44: HTR | J44: 5 | K44: ES 12 | L44: UP | M44: S/R
A47: IGS | B47: 2 | C47: FICOCELLI , Silvana Elizabeth | D47: 21441880 | E47: 599.7 | F47: 28 | G47: PM | H47: 4 | I47: IGS | J47: 5 | K47: EES 18 | L47: 1° | M47: C
B48: 2 | C48: PAWLOWICZ, Gabriela Alicia | D48: 31529569 | E48: 399,1 | F48: 9 | G48: PM | H48: 12 | I48: IGS | J48: 5 | K48: ES 13 | L48: 1° | M48: S/R
B49: 2R | C49: ARZENI, Daniela | D49: 20477056 | F49: Reubicación Definitiva 2020 3 Horas Cátedra Inglés EEST N° 1 005
B50: 2R | C50: ARZENI, Daniela | D50: 20477056 | F50: Reubicación Definitiva 2020 3 Horas Cátedra Inglés EEST N° 4 005
B51: 2 | C51: FICOCELLI , Silvana Elizabeth | D51: 21441880 | E51: 599,7 | F51: 27 | G51: PM | H51: 2 | I51: IGS | J51: 5 | K51: ES 13 | L51: UP | M51: S/R
B52: 2 | C52: FICOCELLI , Silvana Elizabeth | D52: 21441880 | E52: 599,7 | F52: 27 | G52: PM | H52: 2 | I52: IGS | J52: 5 | K52: ES 13 | L52: UP | M52: S/R
B53: 2 | C53: PAWLOWICZ, Gabriela Alicia | D53: 31529569 | E53: 399,1 | F53: 9 | G53: PM | H53: 2 | I53: IGS | J53: 5 | K53: ES 13 | L53: 1° | M53: S/R
B54: 2 | C54: PAWLOWICZ, Gabriela Alicia | D54: 31529569 | E54: 399,1 | F54: 9 | G54: PM | H54: 2 | I54: IGS | J54: 5 | K54: ES 13 | L54: 1° | M54: S/R
B55: 2 | C55: PAWLOWICZ, Gabriela Alicia | D55: 31529569 | E55: 399,1 | F55: 9 | G55: PM | H55: 2 | I55: IGS | J55: 5 | K55: ES 13 | L55: 1° | M55: S/R
B56: 2 | C56: PAWLOWICZ, Gabriela Alicia | D56: 31529569 | E56: 399,1 | F56: 9 | G56: PM | H56: 2 | I56: IGS | J56: 5 | K56: ES 13 | L56: 1° | M56: S/R
A59: IAF | B59: 2 | C59: MARTINEZ FIGUEREDO, Nancy Viviana | D59: 18845376 | E59: 334.4 | F59: 10 | G59: PM | H59: 4 | I59: MCS | J59: 5 | K59: EES 18 | L59: 1° | M59: C
B60: 2 | C60: MARTINEZ FIGUEREDO, Nancy Viviana | D60: 18845376 | E60: 334.4 | F60: 10 | G60: PM | H60: 4 | I60: MCS | J60: 5 | K60: EES 18 | L60: 1° | M60: C
A64: LIT | B64: 3R | C64: CACHAFEIRO, Graciela | D64: 10548392 | F64: Reubicación Definitiva 2021 3 Mód. Lengua y Literatura EES N° 12 005
A68: MTM | B68: 4
B69: 4
B70: 4
A73: MCS | B73: 4 | C73: MARTINEZ FIGUEREDO, Nancy Viviana | D73: 18845376 | E73: 334.40 | F73: 10 | G73: PM | H73: 4 | I73: MTM | J73: 5 | K73: ES 12 | L73: UP | M73: S/R
B74: 4 | C74: BIBEL, Gonzalo Gaston | D74: 29004436 | E74: 335.5 | F74: 9 | G74: PM | H74: 4 | I74: MCS | J74: 5 | K74: EES 18 | L74: 1° | M74: B
B75: 4 | C75: BIBEL, Gonzalo Gaston | D75: 29004436 | E75: 335.5 | F75: 9 | G75: PM | H75: 4 | I75: MCS | J75: 5 | K75: EES 18 | L75: 1° | M75: B
A78: OCS | B78: 3
B79: 3
A83: TYC | B83: 2R | C83: BORGOGNA, Nelida | D83: F6511998 | F83: Reubicación Definitiva 2020 3 Horas Cátedra Legislación Impositiva EES N° 12 005
B84: 2 | C84: LOPEZ , Rosana Noemi | D84: 21436793 | E84: 460 | F84: 22 | G84: PM | H84: 2 | I84: DER | J84: 5 | K84: ES 2 | L84: 5° | M84: B
A87: PIC | B87: 4 | C87: FERNANDEZ, Paula Eliana | D87: 31321549 | E87: 374.8 | F87: 7 | G87: PM | H87: 4 | I87: SYA | J87: 5 | K87: ES 12 | L87: 4° | M87: S/R
A90: PYC | B90: 2 V/C | C90: GARCIA, Silvia Gloria | D90: 14483680 | E90: 432.6 | F90: 18 | G90: PM | H90: 10 | I90: PYC | J90: 5 | K90: ES18 | L90: 1° | M90: B | N90: PAEZ, R a 2 Mód. PYC de EES 13
A92: SYA | B92: 2 | C92: FERNANDEZ, Paula Eliana | D92: 31321549 | E92: 374,8 | F92: 7 | G92: PM | H92: 2 | I92: SYA | J92: 5 | K92: ES 12 | L92: 3° | M92: S/R
A97: OCL | B97: 4
A106: SUMA | B106: =SUM($B$7:B100) -> 115
A107: BASE VACANTES | B107: #REF!

Sheet ES 20
C1: TRIBUNAL DE CLASIFICACION Nº 2- LANÚS
A2: REGION: 2 | E2: ='ES 1 '!E2 -> PROPUESTA 2020/2021 | I2: Referencias: Distinguir con color MAD azul Acrecentamiento: verde Reincorporaciones: violeta Titulares interinos | K2: Otros Reubicaciones: naranja Renuncias: rojo Consecuencias: làpiz
A3: E. E. S. 20 | C3: MODULOS
A4: DISTRITO: Avellaneda (005)
A5: PID | B5: MOD | C5: Docentes Ingrersados Apellido y Nombre | D5: DNI | E5: Puntaje | F5: Antig. | G5: Proviene de | L5: O/P | M5: Razon | N5: Docentes Salidos
G6: Cargo | H6: Nº Mod/Hs. | I6: Asignatura | J6: Distrito | K6: Esc. Nº
A10: BLG | B10: 2
B11: 2
A15: DIS | B15: 5
A18: FIA | B18: 2
A21: GGF | B21: 2
B22: 2
A25: HTR | B25: 2
B26: 2
A29: IGS | B29: 2
B30: 2
B31: 2
A34: NTI | B34: 2
A37: PYC | B37: 2
A40: PCD | B40: 2
A43: PDO | B43: 2
A46: PDI | B46: 2
A49: PDJ | B49: 2
A52: PGE | B52: 2
A55: SYA | B55: 2
A58: SOC | B58: 2
A70: SUMA | B70: =SUM($B$7:B64) -> 43
A71: BASE VACANTES | B71: #REF!

Sheet ES 21
C1: TRIBUNAL DE CLASIFICACION Nº 2- LANÚS
A2: REGION: 2 | E2: ='ES 1 '!E2 -> PROPUESTA 2020/2021 | I2: Referencias: Distinguir con color MAD azul Acrecentamiento: verde Reincorporaciones: violeta Titulares interinos | K2: Otros Reubicaciones: naranja Renuncias: rojo Consecuencias: làpiz
A3: E. E. S. 21 | D3: MODULOS
A4: DISTRITO: Avellaneda (005)
A5: PID | B5: MOD | C5: Docentes Ingrersados Apellido y Nombre | D5: DNI | E5: Puntaje | F5: Antig. | G5: Proviene de | L5: O/P | M5: Razon | N5: Docentes Salidos
G6: Cargo | H6: Nº Mod/Hs. | I6: Asignatura | J6: Distrito | K6: Esc. Nº
A7: BGL | B7: 2
B8: 2
A10: CNT | B10: 4
B11: 4
A13: CSC | B13: 4 V/C | N13: CAFFARATTO, S T2 a 4 Mód. GGF de EEST 2
A16: FIA | B16: 2
B17: 2
A20: FQA | B20: 2
B21: 2
B22: 2
A25: GGF | B25: 2 | C25: CAFFARATTO, Sebastian Luciano T1 | D25: 25978386 | E25: 420 | F25: 9 | G25: PM | H25: 2 | I25: GGF | J25: 5 | K25: ES 27 | L25: 1° | M25: S/R
B26: 2 | C26: CAFFARATTO, Sebastian Luciano T1 | D26: 25978386 | E26: 420 | F26: 9 | G26: PM | H26: 2 | I26: GGF | J26: 5 | K26: ES 27 | L26: 1° | M26: S/R
A29: HTR | B29: 2
B30: 2
A33: IGS | B33: 2R | C33: PALAMARA, Patricia | D33: 13134194 | F33: Reubicación Definitiva 2020 2 Horas Cátedra Inglés EES N° 1 005
B34: 2
B35: 2
B36: 2
B37: 2
B38: 2
B39: 2
A43: LIT | B43: 3 V/C | N43: Zalazar, G T1 a 3 Mód. EES 8 (D 067)
B44: 3 V/C | N44: Zalazar, G T1 a 3 Mód. EES 8 (D 067)
A48: PLG | B48: 4
B49: 4
B50: 4 V/C | N50: SOSA, L a 4 Mód. PLG de EES 23
B51: 4 V/C | N51: SOSA, L a 4 Mód. LIT de EES 23
A54: MCS | B54: 3 V/C | N54: Martínez Silvia a 3 Mód. MCS de EES 69 (D 085)
A56: MTM | B56: 4 | C56: ALCOBA, Emiliano Gaston | D56: 28365952 | E56: 420 | F56: 7 | G56: PM | H56: 4 | I56: MTM | J56: 5 | K56: ES 31 | L56: UP | M56: Conc.
B57: 4 | C57: ALCOBA, Emiliano Gaston | D57: 28365952 | E57: 420 | F57: 7 | G57: PM | H57: 4 | I57: MTM | J57: 5 | K57: ES 31 | L57: UP | M57: Conc.
A59: NTI | B59: 2
B60: 2
A63: PAV | B63: 6
A73: SUMA | B73: =SUM($B$7:B67) -> 68
A74: BASE VACANTES | B74: #REF!

Sheet ES 22
C1: TRIBUNAL DE CLASIFICACION Nº 2- LANÚS
A2: REGION: 2 | E2: ='ES 1 '!E2 -> PROPUESTA 2020/2021 | I2: Referencias: Distinguir con color MAD azul Acrecentamiento: verde Reincorporaciones: violeta Titulares interinos | K2: Otros Reubicaciones: naranja Renuncias: rojo Consecuencias: làpiz
A3: E. E. S. 22 | C3: MODULOS
A4: DISTRITO: Avellaneda (005)
A5: PID | B5: MOD | C5: Docentes Ingrersados Apellido y Nombre | D5: DNI | E5: Puntaje | F5: Antig. | G5: Proviene de | L5: O/P | M5: Razon | N5: Docentes Salidos
G6: Cargo | H6: Nº Mod/Hs. | I6: Asignatura | J6: Distrito | K6: Esc. Nº
A7: RTE | B7: 2
A10: BLG | B10: 2
B11: 2
B12: 2 V/C | N12: SICARI, M T2 a 2 Mód. BLG de EEST 7
A14: CDT | B14: 2
A16: CNT | B16: 4
B17: 4 V/C | N17: SICARI, M T1 a 4 Mód. CNT de EEST 5
A21: CSC | B21: 4
A23: CCD | B23: 2
B24: 2
B25: 2 V/C | N25: MAZZAFERRI, L a 2 Mód. HTR de EEST 7
B26: 2 V/C | N26: MAZZAFERRI, L a 2 Mód. HTR de EEST 7
B27: 2 V/C | N27: MAZZAFERRI, L a 2 Mód. HTR de EEST 7
A29: CCS | B29: 2
A31: EPO | B31: 2
A33: FQA | B33: 2
B34: 2
B35: 2
B36: 2
B37: 2
B38: 2
B39: 2
A42: IGS | B42: 2
B43: 2
B44: 2
B45: 2
B46: 2
B47: 2
B48: 2
B49: 2
B50: 2
A52: IAF | B52: 2
B53: 2
A55: IAQ | B55: 2
B56: 2
A58: FDQ | B58: 3
A60: FIS | B60: 3
A62: GGF | B62: 3
B63: 3
A65: GGF | B65: 2
A67: HTR | B67: 2 | C67: GILIO, Yanina Ines | D67: 29258974 | E67: 344 | F67: 4 | G67: PM | H67: 10 | I67: HTR | J67: 5 | K67: ES12 | L67: 1° | M67: B
B68: 2 | C68: GILIO, Yanina Ines | D68: 29258974 | E68: 344 | F68: 4 | G68: PM | H68: 10 | I68: HTR | J68: 5 | K68: ES12 | L68: 1° | M68: B
B69: 2
B70: 2
B71: 2
B72: 2
B73: 2
B74: 2
A77: HTR | B77: 3
B78: 3
A80: LIT | B80: 3
B81: 3
A83: LIT | B83: 2
B84: 2
A87: MTM | B87: 4 | C87: BRIZZIO, Rosa Maria | D87: 23878018 | E87: 442 | F87: 21 | G87: PM | H87: 4 | I87: MTM | J87: 5 | K87: ES 22 | L87: UP | M87: C
B88: 4
B89: 4
B90: 4
B91: 4
B92: 4
B93: 4V/C | N93: GRANDI A 4M MTM - ES 9
A95: MCS | B95: 3
B96: 3
B97: 3
A100: NTI | B100: 2
B101: 2
A104: ODM | B104: 3
A107: PLG | B107: 4R | C107: IOMMI, Marcelo | D107: 23582300 | F107: Reubicación Definitiva 2021 4 mód. PLG BS N° 45 005
B108: 4
B109: 4
B110: 4
B111: 4
B112: 4
B113: 4
B114: 4
B115: 4
B116: 4
A119: PYC | B119: 2
B120: 2
B121: 2
A125: PSI | B125: 2
B126: 2
A129: SYA | B129: 2
B130: 2
B131: 2
A133: SOC | B133: 3
A135: TCI | B135: 3
A137: TYC | B137: 2
A144: SUMA | B144: =SUM($B$7:B138) -> 210
A145: BASE VACANTES | B145: #REF!

Sheet ES 23
C1: TRIBUNAL DE CLASIFICACION Nº 2- LANÚS
A2: REGION: 2 | E2: ='ES 1 '!E2 -> PROPUESTA 2020/2021 | I2: Referencias: Distinguir con color MAD azul Acrecentamiento: verde Reincorporaciones: violeta Titulares interinos | K2: Otros Reubicaciones: naranja Renuncias: rojo Consecuencias: làpiz
A3: E. E. S. 23 | C3: MODULOS
A4: DISTRITO: Avellaneda (005)
A5: PID | B5: MOD | C5: Docentes Ingrersados Apellido y Nombre | D5: DNI | E5: Puntaje | F5: Antig. | G5: Proviene de | L5: O/P | M5: Razon | N5: Docentes Salidos
G6: Cargo | H6: Nº Mod/Hs. | I6: Asignatura | J6: Distrito | K6: Esc. Nº
A7: BLG | B7: 2
A10: CNT | B10: 4
B11: 4
A14: CSC | B14: 4 V/C | N14: ALMADA, R T1 a 4 Mód.
A17: CCD | B17: 2
B18: 2
B19: 2
B20: 2
A23: EPO | B23: 2
A26: FQA | B26: 2
A29: FIS | B29: 3
A32: GGF | B32: 2 | C32: PAREDES, Angel Rafael T1 | D32: 20913153 | E32: 437,6 | F32: 15 | G32: PM | H32: 2 | I32: GGF | J32: 5 | K32: ES 8 | L32: UP | M32: S/R
B33: 2
B34: 2
A37: GGF | B37: 3
A42: HTR | B42: 2 | C42: ALMADA, Rita Susana T1 | D42: 30262768 | E42: 501.8 | F42: 9 | G42: PM | H42: 2 | I42: CSC | J42: 5 | K42: ES 23 | L42: UP | M42: UF
B43: 2 | C43: ALMADA, Rita Susana T1 | D43: 30262768 | E43: 501.8 | F43: 9 | G43: PM | H43: 2 | I43: CSC | J43: 5 | K43: ES 23 | L43: UP | M43: UF
B44: 2
B45: 2
B46: 2
A48: IGS | B48: 2
B49: 2
B50: 2
B51: 2
B52: 2
A56: IAF | B56: 2
A59: IAQ | B59: 2
A61: LIT | B61: 3 V/C | N61: Zalazar, G T2 a 3 Mód. EES 53 (D 071)
B62: 3 V/C | N62: Zalazar, G T2 a 3 Mód. EES 53 (D 071)
B63: 3 V/C | N63: Zalazar, G T2 a 3 Mód. EES 53 (D 071)
A67: MCS | B67: 3
A70: NTI | B70: 2
B71: 2
A76: PLG | B76: 4 | C76: SOSA, Liana Marcela | D76: 17951227 | E76: 346.10 | F76: 2 | G76: PM | H76: 4 | I76: PLG | J76: 5 | K76: ES 21 | L76: 2° | M76: S/R
A79: LIT | B79: 2 | C79: SOSA, Liana Marcela | D79: 17951227 | E79: 346.10 | F79: 2 | G79: PM | H79: 2 | I79: PLG | J79: 5 | K79: ES 21 | L79: 1° | M79: S/R
B80: 2 | C80: SOSA, Liana Marcela | D80: 17951227 | E80: 346.10 | F80: 2 | G80: PM | H80: 2 | I80: PLG | J80: 5 | K80: ES 21 | L80: 1° | M80: S/R
A82: PSI | B82: 2
A86: QDC | B86: 3
A89: SYA | B89: 2
A100: SUMA | B100: =SUM($B$7:B94) -> 80
A101: BASE VACANTES | B101: #REF!

Sheet ES 24
C1: TRIBUNAL DE CLASIFICACION Nº 2- LANÚS
A2: REGION: 2 | E2: ='ES 1 '!E2 -> PROPUESTA 2020/2021 | I2: Referencias: Distinguir con color MAD azul Acrecentamiento: verde Reincorporaciones: violeta Titulares interinos | K2: Otros Reubicaciones: naranja Renuncias: rojo Consecuencias: làpiz
A3: E. E. S. 24 | C3: MODULOS
A4: DISTRITO: Avellaneda (005)
A5: PID | B5: MOD | C5: Docentes Ingrersados Apellido y Nombre | D5: DNI | E5: Puntaje | F5: Antig. | G5: Proviene de | L5: O/P | M5: Razon | N5: Docentes Salidos
G6: Cargo | H6: Nº Mod/Hs. | I6: Asignatura | J6: Distrito | K6: Esc. Nº
A7: CNT | B7: 4
A10: CCD | B10: 2
A13: INM | B13: 3
A16: IGS | B16: 2
B17: 2
A19: CA2 | B19: 2
B20: 2
A22: CA1 | B22: 2
A26: MTM | B26: 4
B27: 4
A30: MCS | B30: 4
B31: 4
A33: MCS | B33: 3
A36: PLG | B36: 4
B37: 4
A40: PAI | B40: 4
B41: 4v/c | N41: ESPINOSA A 2 Mód RTE de EES 7 y 2 Mód. CCD - EES 5
A43: SYA | B43: 2
B44: 2
A50: SUMA | B50: =SUM($B$7:B44) -> 54
A51: BASE VACANTES | B51: #REF!

Sheet ES 25
C1: TRIBUNAL DE CLASIFICACION Nº 2- LANÚS
A2: REGION: 2 | E2: ='ES 1 '!E2 -> PROPUESTA 2020/2021 | I2: Referencias: Distinguir con color MAD azul Acrecentamiento: verde Reincorporaciones: violeta Titulares interinos | K2: Otros Reubicaciones: naranja Renuncias: rojo Consecuencias: làpiz
A3: E. E. S. 25 | C3: MODULOS
A4: DISTRITO: Avellaneda (005)
A5: PID | B5: MOD | C5: Docentes Ingrersados Apellido y Nombre | D5: DNI | E5: Puntaje | F5: Antig. | G5: Proviene de | L5: O/P | M5: Razon | N5: Docentes Salidos
G6: Cargo | H6: Nº Mod/Hs. | I6: Asignatura | J6: Distrito | K6: Esc. Nº
A7: BLG | B7: 2
B8: 2
A11: CSC | B11: 4
B12: 4
A15: CNT | B15: 4
A18: FQA | B18: 2
B19: 2
B20: 2
A23: GGF | B23: 2
B24: 2
A27: HTTR | B27: 2
B28: 2
B29: 2
A32: IGS | B32: 2
B33: 2
A37: IAF | B37: 2
A40: IAQ | B40: 2
A43: MTM | B43: 4
A46: MCS | B46: 3
A49: PYC | B49: 2
A52: PLG | B52: 4
B53: 4
A69: SUMA | B69: =SUM($B$7:B63) -> 57
A70: BASE VACANTES | B70: #REF!

Sheet ES 26
C1: TRIBUNAL DE CLASIFICACION Nº 2- LANÚS
A2: REGION: 2 | E2: ='ES 1 '!E2 -> PROPUESTA 2020/2021 | I2: Referencias: Distinguir con color MAD azul Acrecentamiento: verde Reincorporaciones: violeta Titulares interinos | K2: Otros Reubicaciones: naranja Renuncias: rojo Consecuencias: làpiz
A3: E. E. S. 26 | C3: MODULOS
A4: DISTRITO: Avellaneda (005)
A5: PID | B5: MOD | C5: Docentes Ingrersados Apellido y Nombre | D5: DNI | E5: Puntaje | F5: Antig. | G5: Proviene de | L5: O/P | M5: Razon | N5: Docentes Salidos
G6: Cargo | H6: Nº Mod/Hs. | I6: Asignatura | J6: Distrito | K6: Esc. Nº
A8: BLG | B8: 2 V/C | N8: LOPEZ, L a 2 Mód. BLG de EES 4
B9: 2 V/C | N9: LOPEZ, L a 4 Mód. CNT de EES 7
B10: 2 V/C
A13: CCD | B13: 2
B14: 2
B15: 2V/C | N15: YACANTE T1 A 2M EFC - ES 3
B16: 2V/C | N16: YACANTE T1 A 2M EFC - ES 3
A18: CSC | B18: 4
B19: 4
A23: FQA | B23: 2
A26: GGF | B26: 2
B27: 2 V/C | N27: CAFFARATTO, S T3 a 2 Mód GGF de EST 2
A30: HTR | B30: 2
B31: 2
A34: IGS | B34: 2
B35: 2
B36: 2
B37: 2
A40: IAF | B40: 2R | C40: GUARIDO, Christian | D40: 23102270 | F40: Reubicación Definitiva 2021 4 mód. Ensayo de Máquinas Eléctricas EEST N° 8 005
A43: MTM | B43: 4
B44: 4
B45: 4
B46: 4
A51: PLG | B51: 4
B52: 4
B53: 4
B54: 4
B55: 4 V/C | N55: SOKOL, E a 4 Mód. PLG de EES 28 An
A58: SOC | B58: 3
A69: SUMA | B69: =SUM($B$7:B63) -> 63
A70: BASE VACANTES | B70: #REF!

Sheet ES 27
C1: TRIBUNAL DE CLASIFICACION Nº 2- LANÚS
A2: REGION: 2 | E2: ='ES 1 '!E2 -> PROPUESTA 2020/2021 | I2: Referencias: Distinguir con color MAD azul Acrecentamiento: verde Reincorporaciones: violeta Titulares interinos | K2: Otros Reubicaciones: naranja Renuncias: rojo Consecuencias: làpiz
A3: E. E. S. 27 | C3: MODULOS
A4: DISTRITO: Avellaneda (005)
A5: PID | B5: MOD | C5: Docentes Ingrersados Apellido y Nombre | D5: DNI | E5: Puntaje | F5: Antig. | G5: Proviene de | L5: O/P | M5: Razon | N5: Docentes Salidos
G6: Cargo | H6: Nº Mod/Hs. | I6: Asignatura | J6: Distrito | K6: Esc. Nº
A7: ADS | B7: 2 V/C | N7: MAST, A a 2 Mód. GGF de EES 27
A10: BLG | B10: 2
B11: 2
B12: 2
B13: 2
A16: BGS | B16: 3
A19: CSC | B19: 4
A22: FCT | B22: 2
A25: FQA | B25: 2
B26: 2
B27: 2
A29: GGF | B29: 2 V/C | C29: MAST, Alejandro Hugo T1 | D29: 25567878 | E29: 440 | F29: 7 | G29: PM | H29: 2 | I29: ADS | J29: 5 | K29: ES 27 | L29: 1° | M29: S/R | N29: CAFFARATTO, S T1 a 2 Mód GGF de EES 21
B30: 2 V/C | N30: CAFFARATTO, S T1 a 2 Mód GGF de EES 21
B31: 2 V/C | N31: CAFFARATTO, S T1 a 2 Mód GGF de EEST 2
A35: HTR | B35: 2
B36: 2
B37: 2
B38: 2
A40: IAF | B40: 2
A42: IAQ | B42: 2
A45: LIT | B45: 3
A48: MTM | B48: 4
B49: 4
A52: NTI | B52: 2
A55: PLG | B55: 4
B56: 4
B57: 4
A73: SUMA | B73: =SUM($B$10:B67) -> 60
A74: BASE VACANTES | B74: #REF!

Sheet ES 28
C1: TRIBUNAL DE CLASIFICACION Nº 2- LANÚS
A2: REGION: 2 | E2: ='ES 1 '!E2 -> PROPUESTA 2020/2021 | I2: Referencias: Distinguir con color MAD azul Acrecentamiento: verde Reincorporaciones: violeta Titulares interinos | K2: Otros Reubicaciones: naranja Renuncias: rojo Consecuencias: làpiz
A3: E. E. S. 28 | C3: MODULOS
A4: DISTRITO: Avellaneda (005)
A5: PID | B5: MOD | C5: Docentes Ingrersados Apellido y Nombre | D5: DNI | E5: Puntaje | F5: Antig. | G5: Proviene de | L5: O/P | M5: Razon | N5: Docentes Salidos
G6: Cargo | H6: Nº Mod/Hs. | I6: Asignatura | J6: Distrito | K6: Esc. Nº
A7: RTE | B7: 2 | C7: ACOSTA, Francisco Javier | D7: 22544500 | E7: 380 | F7: 17 | G7: PM | H7: 10 | I7: MPP | J7: 5 | K7: EP 63 | L7: 2° | M7: B
A10: BLG | B10: 2
A11: An | B11: 2 V/C | N11: JULIANI, Analia Veronica a 4 Mód. CNT de EES 28 An
A12: An | B12: 2 V/C
A14: CNT ANEXO | B14: 4 | C14: JULIANI, Analia Veronica | D14: 26642937 | E14: 381.1 | F14: 12 | G14: PM | H14: 4 | I14: BLG | J14: 5 | K14: ES 28 A | L14: UP | M14: S/R
A17: FQA | B17: 2
A20: GGF ANEXO | B20: 2
A23: IGS | B23: 2
B24: 2
A25: ANEXO | B25: 2
A26: ANEXO | B26: 2
A27: ANEXO | B27: 2
A28: ANEXO | B28: 2
A29: ANEXO | B29: 2
A30: ANEXO | B30: 2
A34: LIT | B34: 3
A40: MCS | B40: 4
A43: PLG ANEXO | B43: 4 | C43: SOKOL, Erica Irene | D43: 30426529 | E43: 340 | F43: 9 | G43: PM | H43: 4 | I43: PLG | J43: 5 | K43: ES 26 | L43: UP | M43: S/R
A44: ANEXO | B44: 4
A61: SUMA | B61: =SUM($B$7:B55) -> 43
A62: BASE VACANTES | B62: #REF!

Sheet ES 29
C1: TRIBUNAL DE CLASIFICACION Nº 2- LANÚS
A2: REGION: 2 | E2: ='ES 1 '!E2 -> PROPUESTA 2020/2021 | I2: Referencias: Distinguir con color MAD azul Acrecentamiento: verde Reincorporaciones: violeta Titulares interinos | K2: Otros Reubicaciones: naranja Renuncias: rojo Consecuencias: làpiz
A3: E.E.S. 29 | D3: MODULOS
A4: DISTRITO: Avellaneda (005)
A5: PID | B5: MOD | C5: Docentes Ingrersados Apellido y Nombre | D5: DNI | E5: Puntaje | F5: Antig. | G5: Proviene de | L5: O/P | M5: Razon | N5: Docentes Salidos
G6: Cargo | H6: Nº Mod/Hs. | I6: Asignatura | J6: Distrito | K6: Esc. Nº
A7: CCD | B7: 2
A11: HTR | B11: 2
A15: LEP | B15: 3
A18: LIT | B18: 3
A21: MTM | B21: 4
A24: NTI | B24: 2
A27: PLG | B27: 4
A45: SUMA | B45: =SUM($B$7:B39) -> 20
A46: BASE VACANTES | B46: #REF!

Sheet ES 30
A1: GIL, Natalia Rosa T2 | C1: TRIBUNAL DE CLASIFICACION Nº 2- LANÚS
A2: REGION: 2 | E2: ='ES 1 '!E2 -> PROPUESTA 2020/2021 | I2: Referencias: Distinguir con color MAD azul Acrecentamiento: verde Reincorporaciones: violeta Titulares interinos | K2: Otros Reubicaciones: naranja Renuncias: rojo Consecuencias: làpiz
A3: E. E. S. 30 | D3: MODULOS
A4: DISTRITO: Avellaneda (005)
A5: PID | B5: MOD | C5: Docentes Ingrersados Apellido y Nombre | D5: DNI | E5: Puntaje | F5: Antig. | G5: Proviene de | L5: O/P | M5: Razon | N5: Docentes Salidos
G6: Cargo | H6: Nº Mod/Hs. | I6: Asignatura | J6: Distrito | K6: Esc. Nº
A7: RTE | B7: 2
A10: BLG | B10: 2
B11: 2
A14: CYC | B14: 2
B15: 2
A18: CYT | B18: 2
B19: 2
A21: CCD | B21: 2
A25: CSC | B25: 4
A29: FQA | B29: 2
B30: 2
B31: 2 V/C | N31: GIL, N T2 a 2 Mód. FQA de EES 4
A33: GGF | B33: 2
B34: 2
B35: 2
B36: 2
B37: 2
B38: 2
A41: HTR | B41: 2 | C41: FIGUERERO, Gustavo Hernan | D41: 24110537 | E41: 399.8 | F41: 3 | G41: PM | H41: 8 | I41: CSC | J41: 5 | K41: ES 1 | L41: 4° | M41: C
B42: 2
B43: 2
A45: IGS | B45: 2
B46: 2
B47: 2
B48: 2
B49: 2
B50: 2
B51: 2
B52: 2
B53: 2
B54: 2
A56: IAC | B56: 2
B57: 2
A60: IAF | B60: 2
A64: IAQ | B64: 2
B65: 2
A67: FIA | B67: 2
A69: LIT | B69: 3
B70: 3
B71: 3
A74: LIT | B74: 2
A77: MTM | B77: 4
B78: 4
A81: MCS | B81: 3
B82: 3
A85: MCS | B85: 4
B86: 4
A90: OCS | B90: 3
A93: ODM | B93: 3
A96: PYC | B96: 2R | C96: LOPREIATO, Pablo | D96: 23304868 | F96: Reubicación Definitiva 2020 3 Horas Cátedra Problemática Social Contemporánea EES N° 2 005
B97: 2 | C97: FIGUERERO, Gustavo Hernan | D97: 24110537 | E97: 399.8 | F97: 3 | G97: PM | H97: 8 | I97: CSC | J97: 5 | K97: ES 1 | L97: 3° | M97: C
A100: PLG | B100: 4
A103: OCL | B103: 4
A106: SYA | B106: 2
A109: TYC | B109: 2
B110: 2
A112: TCI | B112: 3
A120: SUMA | B120: =SUM($B$7:B114) -> 132
A121: BASE VACANTES | B121: #REF!

Sheet ES 31
C1: TRIBUNAL DE CLASIFICACION Nº 2- LANÚS
A2: REGION: 2 | E2: ='ES 1 '!E2 -> PROPUESTA 2020/2021 | I2: Referencias: Distinguir con color MAD azul Acrecentamiento: verde Reincorporaciones: violeta Titulares interinos | K2: Otros Reubicaciones: naranja Renuncias: rojo Consecuencias: làpiz
A3: E. E. S. 31 | C3: MODULOS
A4: DISTRITO: Avellaneda (005)
A5: PID | B5: MOD | C5: Docentes Ingrersados Apellido y Nombre | D5: DNI | E5: Puntaje | F5: Antig. | G5: Proviene de | L5: O/P | M5: Razon | N5: Docentes Salidos
G6: Cargo | H6: Nº Mod/Hs. | I6: Asignatura | J6: Distrito | K6: Esc. Nº
A10: BLG | B10: 2 V/C | N10: CAÑETE, R a 2 Mód BLG de EES 35
B11: 2 V/C | N11: CAÑETE, R a 2 Mód BLG de EES 35
A15: CCD | B15: 2 V/C | N15: ALBORNOZ, M a 2 Mód. CCD DE EES 2
B16: 2 V/C | N16: ALBORNOZ, M a 2 Mód. CCD DE EES 2
B17: 2 V/C | N17: ALBORNOZ, M a 2 Mód. CCD DE EES 2
B18: 2 V/C | N18: MOÑINO, I a 2 Mód. CCD de EES 12
B19: 2 V/C | N19: MOÑINO, I a 2 Mód. CCD de EES 12
N20: Sanchez P a 2 mód. CCD EEST 8 (D 085). No sale; rectificado por TD4
A27: CNT | B27: 4
A30: CSC | B30: 4
A33: FQA | B33: 2
A36: GGF | B36: 2
A40: HTR | B40: 2 V/C | N40: DELMENICO, C a 2 Mód. HTR en EES 11
B41: 2 V/C | N41: DELMENICO, C a 2 Mód. HTR en EES 4
B42: 2 V/C | N42: DELMENICO, C a 2 Mód. HTR en EES 4
A44: ING | B44: 2
B45: 2
B46: 2
B47: 2
A50: CL2 | B50: 2
A53: CM2 | B53: 2
A57: MTM | B57: 4
B58: 4
B59: 4 V/C | N59: ALCOBA, E a 4 Mód MTM de EES 21
B60: 4 V/C | N60: ALCOBA, E a 4 Mód MTM de EES 21
A62: MCS | B62: 4
A65: NTI | B65: 2 V/C | N65: MARLETTA, C a 2 Mód. NTI de EES 2
B66: 2 V/C | N66: MARLETTA, C a 2 Mód. NTI de EES 35
A70: PLG | B70: 4
B71: 4
B72: 4
A75: SYA | B75: 2
A78: TYC | B78: 2
A89: SUMA | B89: =SUM($B$27:B83) -> 52
A90: BASE VACANTES | B90: #REF!

Sheet ES 32
C1: TRIBUNAL DE CLASIFICACION Nº 2- LANÚS
A2: REGION: 2 | E2: ='ES 1 '!E2 -> PROPUESTA 2020/2021 | I2: Referencias: Distinguir con color MAD azul Acrecentamiento: verde Reincorporaciones: violeta Titulares interinos | K2: Otros Reubicaciones: naranja Renuncias: rojo Consecuencias: làpiz
A3: E. E. S. 32 | C3: MODULOS
A4: DISTRITO: Avellaneda (005)
A5: PID | B5: MOD | C5: Docentes Ingrersados Apellido y Nombre | D5: DNI | E5: Puntaje | F5: Antig. | G5: Proviene de | L5: O/P | M5: Razon | N5: Docentes Salidos
G6: Cargo | H6: Nº Mod/Hs. | I6: Asignatura | J6: Distrito | K6: Esc. Nº
A7: RTE | B7: 2
A11: CNT | B11: 4
A15: CYC | B15: 2 | C15: GALLI, Nestor Franco T1 | D15: 27061096 | E15: 418.9 | F15: 14 | G15: PM | H15: 2 | I15: CYC | J15: 5 | K15: ES 5 | L15: UP | M15: S/R
B16: 2
A19: CYT | B19: 2
B20: 2
A22: CCD | B22: 2
B23: 2
B24: 2
B25: 2
B26: 2V/C | N26: PRESSACO A 2M EFC - ES 32
B27: 2V/C | N27: PRESSACO A 2M EFC - ES 35
B28: 2V/C | N28: PRESSACO A 2M EFC - ES 35
A31: ESI | B31: 3
A35: FIA | B35: 2
B36: 2
B37: 2
A39: FQA | B39: 2
B40: 2
B41: 2
B42: 2
A45: FRA | B45: 2
B46: 2
A49: FRA | B49: 3
A53: IGS | B53: 2
B54: 2
B55: 2
B56: 2
B57: 2
B58: 2
A61: IAC | B61: 2
A65: LIT | B65: 3
B66: 3
B67: 3
A70: LIT | B70: 2
A73: MTM | B73: 4 | C73: REORD-. PORTILLO
A77: MCS | B77: 4
B78: 4
B79: 4
A81: OCL | B81: 4
A83: ODM | B83: 3
A86: PLG | B86: 4R | C86: FICARROTTA, Karina | D86: 20913690 | F86: Reubicación Definitiva 2020 6 Horas cátedra Lengua y Literatura EES N° 3 005
B87: 4
A91: POR | B91: 2
A94: POR | B94: 3
B95: 3
A98: TCI | B98: 3 | C98: GALLI, Nestor Franco T2 | D98: 27061096 | E98: 418.9 | F98: 14 | G98: PM | H98: 3 | I98: OCS | J98: 5 | K98: ES 5 | L98: UP | M98: S/R
A101: TYC | B101: 2
A109: SUMA | B109: =SUM($B$7:B103) -> 111
A110: BASE VACANTES | B110: #REF!

Sheet ES 33
C1: TRIBUNAL DE CLASIFICACION Nº 2- LANÚS
A2: REGION: 2 | E2: ='ES 1 '!E2 -> PROPUESTA 2020/2021 | I2: Referencias: Distinguir con color MAD azul Acrecentamiento: verde Reincorporaciones: violeta Titulares interinos | K2: Otros Reubicaciones: naranja Renuncias: rojo Consecuencias: làpiz
A3: E. E. S. 33 | C3: MODULOS
A4: DISTRITO: Avellaneda (005)
A5: PID | B5: MOD | C5: Docentes Ingrersados Apellido y Nombre | D5: DNI | E5: Puntaje | F5: Antig. | G5: Proviene de | L5: O/P | M5: Razon | N5: Docentes Salidos
G6: Cargo | H6: Nº Mod/Hs. | I6: Asignatura | J6: Distrito | K6: Esc. Nº
A7: RTE | B7: 2
B8: 2
A10: CNT | B10: 4
A14: DESTINOS TURISTICOS (TDT) | B14: 3
B15: 3
A18: FQA | B18: 2
B19: 2
B20: 2
B21: 2 V/C | N21: GIL, N T1 a 2 Mód. FQA de EES 18
A23: GGF | B23: 2R | C23: GARCIA, Mariano | D23: 26523280 | F23: Reubicación Definitiva 2021 2 mód. GGF EES N° 9 005 | K23: EES 33 | L23: 1° | M23: C
B24: 2 | C24: DOMINGUEZ, Gustavo Ariel | D24: 25811976 | E24: 334.8 | F24: 9 | G24: PM | H24: 2 | I24: GGF | J24: 5 | K24: EES 33 | L24: 1° | M24: C
B25: 2 | C25: DOMINGUEZ, Gustavo Ariel | D25: 25811976 | E25: 334.8 | F25: 9 | G25: PM | H25: 2 | I25: GGF | J25: 5 | K25: EES 33 | L25: 1° | M25: C
A28: HTR | B28: 2R | C28: MAIDANA, Silvio | D28: 22756722 | F28: Reubicación Definitiva 2020 de 3 Horas Cátedra de Historia Geografía de EES N° 9
B29: 2 | C29: ALONSO, Carlos Miguel | D29: 34178612 | E29: 430 | F29: 8 | G29: PM | H29: 2 | I29: HTR | J29: 5 | K29: ES 9 | L29: 3° | M29: S/R
B30: 2 | C30: SMIRIGLIA, Nicolas Daniel T2 | D30: 26926050 | E30: S/P | F30: 14 | G30: PM | H30: 4 | I30: HTR | J30: 085 | K30: ES 8 | L30: 6° | M30: S/R
A33: IGS | B33: 2 | C33: SOFRANICIUK, Nancy Noemi | D33: 18142727 | E33: 10 | F33: 4 | G33: PM | H33: 6 | I33: IGS | J33: 5 | K33: ES33 | L33: 1° | M33: C
B34: 2
A37: IAF | B37: 2R | C37: GUARIDO, Christian | D37: 23102270 | E37: 41 | F37: Reubicación Definitiva 2021 4 mód. Ensayo de Máquinas Eléctricas EEST N° 8 005
B38: 2
A40: IAQ | B40: 2
B41: 2
A43: LIT | B43: 3
B44: 3
A47: LIT | B47: 2
B48: 2
A51: MCS | B51: 3 | C51: TOMEY VERA, Lilian Jaqueline | D51: 18837655 | E51: 326 | F51: 3 | G51: PM | H51: 12 | I51: MTM | J51: 5 | K51: ES 10 | L51: 3° | M51: C
B52: 3
A55: MTM | B55: 4V/C | N55: GONZALEZ A 4M MTM - EST 7
A59: MANIF. CULT. (MNC) | B59: 2
B60: 2
A63: NTI | B63: 2 | C63: MAURI, Andrea Carina | D63: 25790207 | E63: 407.3 | F63: 14 | G63: PM | H63: 4 | I63: NTICX | J63: 5 | K63: EES 11 | L63: 2° | M63: A
B64: 2
A67: SEMINARIO DE TURISMO (SYT) | B67: 2
B68: 2
A71: PLG | B71: 4
A74: PYC | B74: 2
B75: 2
A77: TTT | B77: 3
B78: 3
A86: SUMA | B86: =SUM($B$7:B80) -> 80
A87: BASE VACANTES | B87: #REF!

Sheet ES 34
C1: TRIBUNAL DE CLASIFICACION Nº 2- LANÚS
A2: REGION: 2 | E2: ='ES 1 '!E2 -> PROPUESTA 2020/2021 | I2: Referencias: Distinguir con color MAD azul Acrecentamiento: verde Reincorporaciones: violeta Titulares interinos | K2: Otros Reubicaciones: naranja Renuncias: rojo Consecuencias: làpiz
A3: E. E. S. 34 | C3: MODULOS
A4: DISTRITO: Avellaneda (005)
A5: PID | B5: MOD | C5: Docentes Ingrersados Apellido y Nombre | D5: DNI | E5: Puntaje | F5: Antig. | G5: Proviene de | L5: O/P | M5: Razon | N5: Docentes Salidos
G6: Cargo | H6: Nº Mod/Hs. | I6: Asignatura | J6: Distrito | K6: Esc. Nº
A7: CTU | B7: 4
A10: BLG | B10: 2 V/C | N10: MARTIN, L a 2 Mód. BLG de EES 35
B11: 2 V/C | N11: MARTIN, L a 2 Mód. BLG de EES 35
A13: TEA | B13: 2
A15: POC | B15: 4
A18: CNT | B18: 4
A21: GGF | B21: 2
B22: 2
B23: 2
A25: HTR | B25: 2
A27: IAQ | B27: 2
A29: IAF | B29: 2
A32: LIT | B32: 3
B33: 3
A35: LC DANZA | B35: 2
A37: MCS | B37: 3
B38: 3
A41: NTI | B41: 2
A44: PYC | B44: 2
A51: SUMA | B51: =SUM($B$7:B45) -> 44
A52: BASE VACANTES | B52: #REF!

Sheet ES 35
C1: TRIBUNAL DE CLASIFICACION Nº 2- LANÚS
A2: REGION: 2 | E2: ='ES 1 '!E2 -> PROPUESTA 2020/2021 | I2: Referencias: Distinguir con color MAD azul Acrecentamiento: verde Reincorporaciones: violeta Titulares interinos | K2: Otros Reubicaciones: naranja Renuncias: rojo Consecuencias: làpiz
A3: E. E. S. 35 | C3: MODULOS
A4: DISTRITO: Avellaneda (005)
A5: PID | B5: MOD | C5: Docentes Ingrersados Apellido y Nombre | D5: DNI | E5: Puntaje | F5: Antig. | G5: Proviene de | L5: O/P | M5: Razon | N5: Docentes Salidos
G6: Cargo | H6: Nº Mod/Hs. | I6: Asignatura | J6: Distrito | K6: Esc. Nº
A7: RTE | B7: 2 | C7: D´AMORE, Alejandra Karina | D7: 24129195 | E7: 476.2 | F7: 14 | G7: PM | H7: 3 | I7: MPP | J7: 5 | K7: EP 55
B8: 2 | C8: D´AMORE, Alejandra Karina | D8: 24129195 | E8: 476.2 | F8: 14 | G8: PM | H8: 3 | I8: MPP | J8: 5 | K8: EP 55
A11: BLG | B11: 2 | C11: CAÑETE, Romina Mabel | D11: 29461982 | E11: 280 | F11: 4 | G11: PM | H11: 2 | I11: BLG | J11: 5 | K11: ES 31 | L11: 1° | M11: Salud
B12: 2 | C12: CAÑETE, Romina Mabel | D12: 29461982 | E12: 280 | F12: 4 | G12: PM | H12: 2 | I12: BLG | J12: 5 | K12: ES 31 | L12: 1° | M12: Salud
B13: 2 | C13: MARTIN, Laura Graciela | D13: 27949022 | E13: 381,8 | F13: 13 | G13: PM | H13: 2 | I13: BLG | J13: 5 | K13: ES 34 | L13: 1° | M13: S/R
B14: 2 | C14: MARTIN, Laura Graciela | D14: 27949022 | E14: 381,8 | F14: 13 | G14: PM | H14: 2 | I14: BLG | J14: 5 | K14: ES 34 | L14: 1° | M14: S/R
B15: 2
B16: 2
B17: 2
B18: 2
A21: CCD | B21: 2
A25: DER | B25: 2R | C25: TROLIO NUCARO, Marisa | D25: 21602304 | F25: Reubicación Definitiva 2021 2 mód. DER EES N° 1 005
B26: 2
A28: EPO | B28: 3
B29: 3
A32: EMM | B32: 2
A35: FIA | B35: 2
B36: 2
A39: FQA | B39: 2
B40: 2
B41: 2
B42: 2
B43: 2
B44: 2
B45: 2
A48: GOR | B48: 2
A52: HTR | B52: 2
A55: IGS | B55: 2
B56: 2
B57: 2
B58: 2
B59: 2
B60: 2
B61: 2
B62: 2 | C62: PROTEGIDOS X LEY (VERDIRAME)
A65: IAF | B65: 2
B66: 2
A69: IAQ | B69: 2
B70: 2
A73: LIT | B73: 3
B74: 3
B75: 3
A77: LIT | B77: 2
B78: 2
A81: MTM | B81: 4
B82: 4
B83: 4
A86: MCS | B86: 3
B87: 3
B88: 3
B89: 3
A92: MCS | B92: 4 | C92: CARUSO, Angela | D92: 11041931 | E92: 481,7 | F92: 20 | G92: PM | H92: 4 | I92: MCS | J92: 5 | K92: ES 8 | L92: UP | M92: S/R
B93: 4
A96: NTI | B96: 2 | C96: MARLETTA, Cecilia Laura | D96: 24157004 | E96: 492,6 | F96: 18 | G96: PM | H96: 2 | I96: NTI | J96: 5 | K96: ES 31 | L96: 3° | M96: S/R
B97: 2
A100: PYC | B100: 2 | C100: IERULLO, Cristian Ariel | D100: 29699395 | E100: S/P | F100: 14 | G100: PM | H100: 4 | I100: CSC | J100: 5 | K100: ES 35 | L100: 2° | M100: C
B101: 2
A104: PLG | B104: 4
B105: 4
B106: 4
B107: 4
A110: PRO | B110: 4
B111: 4
A113: TYC | B113: 2 | C113: IERULLO, Maximiliano Gaston | D113: 32832005 | E113: 384.8 | F113: 10 | G113: PM | H113: 4 | I113: HTR | J113: 5 | K113: ES 35 | L113: 1° | M113: C
B114: 2
A116: SIC II | B116: 4
A118: TDO | B118: 2
A125: SUMA | B125: =SUM($B$7:B119) -> 165
A126: BASE VACANTES | B126: #REF!
